BEGIN:VCALENDAR
VERSION:2.0
PRODID:-//ChamberMaster//Event Calendar 2.0//EN
METHOD:PUBLISH
X-PUBLISHED-TTL:P3D
REFRESH-INTERVAL:P3D
CALSCALE:GREGORIAN
BEGIN:VEVENT
DTSTART:20190214T140000Z
DTEND:20190214T150000Z
X-MICROSOFT-CDO-ALLDAYEVENT:FALSE
SUMMARY:Ignite Quad Cities Open Coffee
DESCRIPTION:Join us as Paul Rumler\, CEO and President of the Quad Cities Chamber reviews the proposed minimum wage increase\, its status\, and what entrepreneurs/businesses should know.\n\n\n\n7:30 - 8:00 AM - Networking and Coffee Bar opens\n\n8 - 9:00 AM - Introductions and discussion\n\n\n\nThank you Ignite Quad Cities Sponsors:\n\n\n\nHuiskamp Collins Investments\, LLC\n\nIH Mississippi Valley Credit Union\n\nBozeman\, Neighbour\, Patton\, & Noe\, LLP\n\n\n\nLocation Sponsor:\n\ncoworkqc\n\n\n\nCoffee Sponsor:\n\nCaffeine Queen Espresso
X-ALT-DESC;FMTTYPE=text/html:Join us as Paul Rumler\, CEO and President of the Quad Cities Chamber reviews the proposed minimum wage increase\, its status\, and what entrepreneurs/businesses should know.<br />\n<br />\n7:30 - 8:00 AM - Networking and Coffee Bar opens<br />\n8 - 9:00 AM - Introductions and discussion<br />\n<br />\nThank you Ignite Quad Cities Sponsors:<br />\n<br />\nHuiskamp Collins Investments\, LLC<br />\nIH Mississippi Valley Credit Union<br />\nBozeman\, Neighbour\, Patton\, &amp\; Noe\, LLP<br />\n<br />\nLocation Sponsor:<br />\ncoworkqc<br />\n<br />\nCoffee Sponsor:<br />\nCaffeine Queen Espresso
LOCATION:coworkqc 102 E. 2nd St. Davenport\, IA 52801
UID:e.2843.13708
SEQUENCE:3
DTSTAMP:20260422T195519Z
URL:https://member.quadcitieschamber.com/events/details/ignite-quad-cities-open-coffee-13708
END:VEVENT

END:VCALENDAR
