BEGIN:VCALENDAR
VERSION:2.0
PRODID:-//ChamberMaster//Event Calendar 2.0//EN
METHOD:PUBLISH
X-PUBLISHED-TTL:P3D
REFRESH-INTERVAL:P3D
CALSCALE:GREGORIAN
BEGIN:VEVENT
DTSTART:20190411T123000Z
DTEND:20190411T140000Z
X-MICROSOFT-CDO-ALLDAYEVENT:FALSE
SUMMARY:Ignite Quad Cities Open Coffee
DESCRIPTION:Every business has a process and every process has variation. What if your employee leaves? Your business could be at risk! Your ability to train and keep interns or employees AND build your business is based on having good foundations in place.\n\n\n\nJoin us as Zoe Lutes of Sigma Dynamics shares the Lean Six Sigma (LSS) methodology that everyone is talking about!  You'll get a brief overview of the milestone phases\, the critical elements and understand how LSS may apply to your business.\n\n \n\nZoe will also introduce to you the '5 Why' root cause analysis and problem solving tool.  Walk out the door with a tool to help your shore up your business foundations!\n\n\n\n7:30 - 8:00 AM - Caffeine Queen Catering Coffee Bar opens & networking\n\n8:00 - 9:00 AM - Program\n\n\n\nPlease RSVP so that we have enough coffee!\n\n\n\nMore about Sigma Dynamics:  https://www.sigmadynamicsllc.com/
X-ALT-DESC;FMTTYPE=text/html:Every business has a process and every process has variation. What if your employee leaves? Your business could be at risk! Your ability to train and keep interns or employees AND build your business is based on having good foundations in place.<br />\n<br />\nJoin us as Zoe Lutes of Sigma Dynamics shares the Lean Six Sigma (LSS) methodology that everyone is talking about!&nbsp\; You&#39\;ll get a brief overview of the milestone phases\, the critical elements and understand how LSS may apply to your business.<br />\n&nbsp\;<br />\nZoe will also introduce to you the &#39\;5 Why&#39\; root cause analysis and problem solving tool.&nbsp\; Walk out the door with a tool to help your shore up your business foundations!<br />\n<br />\n7:30 - 8:00 AM - Caffeine Queen Catering Coffee Bar opens &amp\; networking<br />\n8:00 - 9:00 AM - Program<br />\n<br />\nPlease RSVP so that we have enough coffee!<br />\n<br />\nMore about Sigma Dynamics:&nbsp\;&nbsp\;<a href="https://www.sigmadynamicsllc.com/">https://www.sigmadynamicsllc.com/</a>
LOCATION:coworkqc 102 E. 2nd St. Davenport\, IA 52801
UID:e.2843.13710
SEQUENCE:3
DTSTAMP:20260422T162851Z
URL:https://member.quadcitieschamber.com/events/details/ignite-quad-cities-open-coffee-13710
END:VEVENT

END:VCALENDAR
