BEGIN:VCALENDAR
VERSION:2.0
PRODID:-//ChamberMaster//Event Calendar 2.0//EN
METHOD:PUBLISH
X-PUBLISHED-TTL:P3D
REFRESH-INTERVAL:P3D
CALSCALE:GREGORIAN
BEGIN:VEVENT
DTSTART:20190124T140000Z
DTEND:20190124T150000Z
X-MICROSOFT-CDO-ALLDAYEVENT:FALSE
SUMMARY:Ignite Quad Cities Open Coffee
DESCRIPTION:Thinking of getting that great idea off the ground as a business?  Now is the time!  Quad Cities Venture School starts February 20th.  This will be your chance to hear how you can get your business idea off the ground\, or your current business repositioned for faster growth and sustainability.  In just 7 weeks!!\n\n\n\nKurt Heiar\, Venture School Director from the University of Iowa's John Pappajohn Entrepreneurial Center will be our guest speaker.\n\n\n\nMore about Venture School:  https://www.iowajpec.org/community/venture-school\n\nMore about Kurt:  https://www.iowajpec.org/kurt-heiar
X-ALT-DESC;FMTTYPE=text/html:Thinking of getting that great idea off the ground as a business?&nbsp\; Now is the time!&nbsp\; Quad Cities Venture School starts February 20th.&nbsp\; This will be your chance to hear how you can get your business idea off the ground\, or your current business repositioned for faster growth and sustainability.&nbsp\; In just 7 weeks!!<br />\n<br />\nKurt Heiar\, Venture School Director from the University of Iowa&#39\;s John Pappajohn Entrepreneurial Center will be our guest speaker.<br />\n<br />\nMore about Venture School:&nbsp\;&nbsp\;https://www.iowajpec.org/community/venture-school<br />\nMore about Kurt:&nbsp\;&nbsp\;https://www.iowajpec.org/kurt-heiar
LOCATION:coworkqc 102 E. 2nd St. Davenport\, IA 52801
UID:e.2843.13711
SEQUENCE:3
DTSTAMP:20260422T214613Z
URL:https://member.quadcitieschamber.com/events/details/ignite-quad-cities-open-coffee-13711
END:VEVENT

END:VCALENDAR
