BEGIN:VCALENDAR
VERSION:2.0
PRODID:-//ChamberMaster//Event Calendar 2.0//EN
METHOD:PUBLISH
X-PUBLISHED-TTL:P3D
REFRESH-INTERVAL:P3D
CALSCALE:GREGORIAN
BEGIN:VEVENT
DTSTART:20190328T130000Z
DTEND:20190328T140000Z
X-MICROSOFT-CDO-ALLDAYEVENT:FALSE
SUMMARY:Ignite Quad Cities Open Coffee
DESCRIPTION:What are you working on? Pitch your new business idea and get some help from a room full of entrepreneurs! Three minutes and a great cup of coffee could change your life!\n\n\n\n7:30 - 8:00 AM - Coffee bar and networking\n\n8:00 - 8:10 AM - Introductions\n\n8:10 - 9:00 AM - New idea fast pitch\n\n\n\n\n\nFree to attend
X-ALT-DESC;FMTTYPE=text/html:<span style="color: rgb(46\, 62\, 72)\; font-family: &quot\;Graphik Meetup&quot\;\, -apple-system\, BlinkMacSystemFont\, Roboto\, Helvetica\, Arial\, sans-serif\; font-size: 16px\; background-color: rgb(246\, 247\, 248)\;">What are you working on? Pitch your new business idea and get some help from a room full of entrepreneurs! Three minutes and a great cup of coffee could change your life!</span><br style="color: rgb(46\, 62\, 72)\; font-family: &quot\;Graphik Meetup&quot\;\, -apple-system\, BlinkMacSystemFont\, Roboto\, Helvetica\, Arial\, sans-serif\; font-size: 16px\; background-color: rgb(246\, 247\, 248)\;" />\n<br style="color: rgb(46\, 62\, 72)\; font-family: &quot\;Graphik Meetup&quot\;\, -apple-system\, BlinkMacSystemFont\, Roboto\, Helvetica\, Arial\, sans-serif\; font-size: 16px\; background-color: rgb(246\, 247\, 248)\;" />\n<span style="color: rgb(46\, 62\, 72)\; font-family: &quot\;Graphik Meetup&quot\;\, -apple-system\, BlinkMacSystemFont\, Roboto\, Helvetica\, Arial\, sans-serif\; font-size: 16px\; background-color: rgb(246\, 247\, 248)\;">7:30 - 8:00 AM - Coffee bar and networking</span><br style="color: rgb(46\, 62\, 72)\; font-family: &quot\;Graphik Meetup&quot\;\, -apple-system\, BlinkMacSystemFont\, Roboto\, Helvetica\, Arial\, sans-serif\; font-size: 16px\; background-color: rgb(246\, 247\, 248)\;" />\n<span style="color: rgb(46\, 62\, 72)\; font-family: &quot\;Graphik Meetup&quot\;\, -apple-system\, BlinkMacSystemFont\, Roboto\, Helvetica\, Arial\, sans-serif\; font-size: 16px\; background-color: rgb(246\, 247\, 248)\;">8:00 - 8:10 AM - Introductions</span><br style="color: rgb(46\, 62\, 72)\; font-family: &quot\;Graphik Meetup&quot\;\, -apple-system\, BlinkMacSystemFont\, Roboto\, Helvetica\, Arial\, sans-serif\; font-size: 16px\; background-color: rgb(246\, 247\, 248)\;" />\n<span style="color: rgb(46\, 62\, 72)\; font-family: &quot\;Graphik Meetup&quot\;\, -apple-system\, BlinkMacSystemFont\, Roboto\, Helvetica\, Arial\, sans-serif\; font-size: 16px\; background-color: rgb(246\, 247\, 248)\;">8:10 - 9:00 AM - New idea fast pitch</span><br />\n<br />\n<br />\n<span style="font-family: arial\;"><span style="font-size: 16px\;">Free to attend</span></span>
LOCATION:coworkqc 102 E. 2nd St. Davenport\, IA 52801
UID:e.2843.13713
SEQUENCE:3
DTSTAMP:20260422T181318Z
URL:https://member.quadcitieschamber.com/events/details/ignite-quad-cities-open-coffee-13713
END:VEVENT

END:VCALENDAR
