BEGIN:VCALENDAR
VERSION:2.0
PRODID:-//ChamberMaster//Event Calendar 2.0//EN
METHOD:PUBLISH
X-PUBLISHED-TTL:P3D
REFRESH-INTERVAL:P3D
CALSCALE:GREGORIAN
BEGIN:VEVENT
DTSTART:20190613T123000Z
DTEND:20190613T140000Z
X-MICROSOFT-CDO-ALLDAYEVENT:FALSE
SUMMARY:Ignite Quad Cities Open Coffee
DESCRIPTION:Good for you\, Ms.or Mr. Entrepreneur   You're finally making money!  What comes next? \n\n\n\nHeidi Huiskamp Collins from Huiskamp Collins Investments\, LLC\, talks about next steps for small business owners including a thorough look at the various options available to you and your employees to provide for your future retirement.  Get the rundown and come with your questions!\n\n\n\nMore about our speaker:  https://hhcinvestments.net/
X-ALT-DESC;FMTTYPE=text/html:<span style="font-size:14px\;">Good for you\, Ms.or Mr. Entrepreneur &hellip\; You&rsquo\;re finally making money!&nbsp\; What comes next?&nbsp\;<br />\n<br />\nHeidi Huiskamp Collins from Huiskamp Collins Investments\, LLC\, talks about next steps for small business owners including a thorough look at the various options available to you and your employees to provide for your future retirement.&nbsp\; Get the rundown and come with your questions!<br />\n<br />\nMore about our speaker:&nbsp\; https://hhcinvestments.net/</span><br />\n<br />\n&nbsp\;
LOCATION:COWORKQC 102 E. 2nd St. Davenport\, IA 52801
UID:e.2843.13717
SEQUENCE:3
DTSTAMP:20260422T131127Z
URL:https://member.quadcitieschamber.com/events/details/ignite-quad-cities-open-coffee-13717
END:VEVENT

END:VCALENDAR
