BEGIN:VCALENDAR
VERSION:2.0
PRODID:-//ChamberMaster//Event Calendar 2.0//EN
METHOD:PUBLISH
X-PUBLISHED-TTL:P3D
REFRESH-INTERVAL:P3D
CALSCALE:GREGORIAN
BEGIN:VEVENT
DTSTART:20190627T123000Z
DTEND:20190627T140000Z
X-MICROSOFT-CDO-ALLDAYEVENT:FALSE
SUMMARY:Ignite Quad Cities Open Coffee
DESCRIPTION:The Five Ways to Profitability - Do You Know What They Are?\n\n\n\nAll business is driven by five key profit generating areas: Lead Generation\, Conversion Rate\, Average Dollar Sale\, Average Number of Transactions and Profit Margins. \n\n\n\nDo you know your business numbers that will make your business profitable?  Find out as Marcia Erickson of ActionCOACH takes us through the Five Ways To Profitability!\n\n\n\nMore about our speaker:  https://www.linkedin.com/in/marcia-erickson-23587931/\n\n\n\nFree to attend
X-ALT-DESC;FMTTYPE=text/html:<span style="font-size:16px\;">The Five Ways to Profitability - Do You Know What They Are?</span><br />\n<br />\n<span style="font-size:16px\;">All business is driven by five key profit generating areas: Lead Generation\, Conversion Rate\, Average Dollar Sale\, Average Number of Transactions and Profit Margins.&nbsp\;<br />\n<br />\nDo you know your business numbers that will make your business profitable?&nbsp\; Find out as Marcia Erickson of ActionCOACH takes us through the Five Ways To Profitability!<br />\n<br />\nMore about our speaker:&nbsp\; https://www.linkedin.com/in/marcia-erickson-23587931/<br />\n<br />\n<span style="font-family: arial\;">Free to attend</span></span>
LOCATION:COWORKQC 102 E. 2nd St. Davenport\, IA 52801
UID:e.2843.13718
SEQUENCE:3
DTSTAMP:20260422T131127Z
URL:https://member.quadcitieschamber.com/events/details/ignite-quad-cities-open-coffee-13718
END:VEVENT

END:VCALENDAR
