BEGIN:VCALENDAR
VERSION:2.0
PRODID:-//ChamberMaster//Event Calendar 2.0//EN
METHOD:PUBLISH
X-PUBLISHED-TTL:P3D
REFRESH-INTERVAL:P3D
CALSCALE:GREGORIAN
BEGIN:VEVENT
DTSTART:20181108T140000Z
DTEND:20181108T150000Z
X-MICROSOFT-CDO-ALLDAYEVENT:FALSE
SUMMARY:Ignite Quad Cities Open Coffee - Drive Business Using Social Media!
DESCRIPTION:The holidays are coming!  Small Business Saturday is coming!  Get your plan together to drive sales through social media!  Even if your business doesn't rely on holiday shoppers\, we all still need to up our social media  game!  \n\n\n\nAaron Howard of Howard Health Quarters will be on hand to show how you can do it.  \n\n\n\nHoward Health Quarters is a promotional hub for health and wellness in our community. HHQ provides companies a platform to educate clients\, promote their businesses through vendor sponsorship at Free Community Yoga events\, and increase customer acquisition through social media video production.\n\n\n\nhttps://www.facebook.com/HowardHealthQuarters/\n\n\n\nThank you to our Ignite Quad Cities Annual Sponsors:\n\n\n\nBozeman\, Neighbour\, Patton & Noe\, LLP\n\nBill Karben - Carpentier\, Mitchell\, Goddard & Co.\, LLC\n\nEvan Muench & Lisa Elgin - IH Mississippi Valley Credit Union\n\nKevin M. Linn - Principal Financial
X-ALT-DESC;FMTTYPE=text/html:The holidays are coming!&nbsp\; Small Business Saturday is coming!&nbsp\; Get your plan together to drive sales through social media!&nbsp\; Even if your business doesn&#39\;t rely on holiday shoppers\, we all still need to up our social media&nbsp\; game!&nbsp\;&nbsp\;<br />\n<br />\nAaron Howard of Howard Health Quarters will be on hand to show how you can do it.&nbsp\;&nbsp\;<br />\n<br />\nHoward Health Quarters is a promotional hub for health and wellness in our community. HHQ provides companies a platform to educate clients\, promote their businesses through vendor sponsorship at Free Community Yoga events\, and increase customer acquisition through social media video production.<br />\n<br />\nhttps://www.facebook.com/HowardHealthQuarters/<br />\n<br />\nThank you to our Ignite Quad Cities Annual Sponsors:<br />\n<br />\nBozeman\, Neighbour\, Patton &amp\; Noe\, LLP<br />\nBill Karben - Carpentier\, Mitchell\, Goddard &amp\; Co.\, LLC<br />\nEvan Muench &amp\; Lisa Elgin - IH Mississippi Valley Credit Union<br />\nKevin M. Linn - Principal Financial
LOCATION:coworkqc 102 E. 2nd St. Davenport\, IA 52801
UID:e.2843.13556
SEQUENCE:3
DTSTAMP:20260423T014229Z
URL:https://member.quadcitieschamber.com/events/details/ignite-quad-cities-open-coffee-drive-business-using-social-media-13556
END:VEVENT

END:VCALENDAR
