BEGIN:VCALENDAR
VERSION:2.0
PRODID:-//ChamberMaster//Event Calendar 2.0//EN
METHOD:PUBLISH
X-PUBLISHED-TTL:P3D
REFRESH-INTERVAL:P3D
CALSCALE:GREGORIAN
BEGIN:VEVENT
DTSTART:20180205T150000Z
DTEND:20180214T230000Z
X-MICROSOFT-CDO-ALLDAYEVENT:FALSE
SUMMARY:IHMVCU Collection Drive
DESCRIPTION:Support our troops! Help IHMVCU collect items to send to troops. All branch locations will accept monetary and item donations.
X-ALT-DESC;FMTTYPE=text/html:Support our troops! Help IHMVCU collect items to send to troops. All branch locations will accept monetary and item donations.
LOCATION:All IHMVCU branches
UID:e.2843.10025
SEQUENCE:3
DTSTAMP:20260423T153352Z
URL:https://member.quadcitieschamber.com/events/details/ihmvcu-collection-drive-10025
END:VEVENT

END:VCALENDAR
