BEGIN:VCALENDAR
VERSION:2.0
PRODID:-//ChamberMaster//Event Calendar 2.0//EN
METHOD:PUBLISH
X-PUBLISHED-TTL:P3D
REFRESH-INTERVAL:P3D
CALSCALE:GREGORIAN
BEGIN:VEVENT
DTSTART:20171011T150000Z
DTEND:20171011T190000Z
X-MICROSOFT-CDO-ALLDAYEVENT:FALSE
SUMMARY:IHMVCU/HyVee Flu Shot
DESCRIPTION:Stop by our IHMVCU East Kimberly Road branch in Davenport or our IHMVCU Corporate Office in Moline for a flu shot courtesy of the HyVee Wellness Bus! Make sure to bring your insurance card.
X-ALT-DESC;FMTTYPE=text/html:Stop by our IHMVCU East Kimberly Road branch in Davenport or our IHMVCU Corporate Office in Moline for a flu shot courtesy of the HyVee Wellness Bus! Make sure to bring your insurance card.
LOCATION:2 LOCATIONS! IHMVCU 2101 East Kimberly Road\, Davenport or IMHVCU Corporate Office 2121 47th St\, Moline.
UID:e.2843.8585
SEQUENCE:3
DTSTAMP:20260423T210117Z
URL:https://member.quadcitieschamber.com/events/details/ihmvcu-hyvee-flu-shot-8585
END:VEVENT

END:VCALENDAR
