BEGIN:VCALENDAR
VERSION:2.0
PRODID:-//ChamberMaster//Event Calendar 2.0//EN
METHOD:PUBLISH
X-PUBLISHED-TTL:P3D
REFRESH-INTERVAL:P3D
CALSCALE:GREGORIAN
BEGIN:VEVENT
DTSTART:20131003T213000Z
DTEND:20131003T220000Z
X-MICROSOFT-CDO-ALLDAYEVENT:FALSE
SUMMARY:IIW P.C. Engineers\, Architects & Surveyors 31 year Anniversary Ribbon Cutting
DESCRIPTION:Please join IIW P.C.  Engineers\, Architects\, & Surveyors in celebrating their 31 year anniversary on Thursday\, October 3rd  at 4:30pm – Located at 127 West 76th St. Davenport\, IA 52806.  http://mapq.st/16tbJO7.   The ribbon cutting and open house for IIW\, PC\, a firm of engineers\, architects\, and surveyors is to celebrate their valued relationships with area clients.  Founded in Dubuque 31 years ago\, IIW\, PC is proud to have its office in Davenport (open since 2010)\, as well as Hazel Green\, WI and St. Cloud\, MN.  The company employs over 70 professionals in those offices.   IIW provides a wide range of professional services\, including: architects\, civil engineering\, construction services\, environmental engineering\, land development\, municipal engineering\, land surveying\, structural engineering and transportation engineering.  Their client base encompasses both the public and private sector including city\, county and state government\, health care organizations\, PK-12 and higher education\, the financial industry\, hospitality\, religious organizations\, emergency service providers\, developers\, commercial businesses and industrial corporations.   IIW has been a member of the Chamber since 2010.  For more information please visit www.iiwengr.com.
X-ALT-DESC;FMTTYPE=text/html:<DIV style="FONT-FAMILY: Arial"><P style="MARGIN: 0in 0in 0pt" class=MsoNormal><FONT face=Calibri>Please join IIW P.C.<SPAN style="mso-spacerun: yes">&nbsp\; </SPAN>Engineers\, Architects\, &amp\; Surveyors in celebrating their 31 year anniversary on Thursday\, October 3<SUP>rd</SUP><SPAN style="mso-spacerun: yes">&nbsp\; </SPAN>at 4:30pm – Located at 127 West 76<SUP>th</SUP> St. Davenport\, IA 52806.<SPAN style="mso-spacerun: yes">&nbsp\; </SPAN></FONT><A href="http://mapq.st/16tbJO7"><FONT face="Times New Roman">http://mapq.st/16tbJO7</FONT></A><FONT face=Calibri>.<SPAN style="mso-spacerun: yes">&nbsp\; </SPAN><?xml:namespace prefix = o ns = "urn:schemas-microsoft-com:office:office" /><o:p></o:p></FONT></P><P style="MARGIN: 0in 0in 0pt" class=MsoNormal><o:p><FONT face=Calibri>&nbsp\;</FONT></o:p></P><P style="MARGIN: 0in 0in 0pt" class=MsoNormal><FONT face=Calibri>The ribbon cutting and open house for IIW\, PC\, a firm of engineers\, architects\, and surveyors is to celebrate their valued relationships with area clients.<SPAN style="mso-spacerun: yes">&nbsp\; </SPAN>Founded in Dubuque 31 years ago\, IIW\, PC is proud to have its office in Davenport (open since 2010)\, as well as Hazel Green\, WI and St. Cloud\, MN.<SPAN style="mso-spacerun: yes">&nbsp\; </SPAN>The company employs over 70 professionals in those offices.<SPAN style="mso-spacerun: yes">&nbsp\; </SPAN><o:p></o:p></FONT></P><P style="MARGIN: 0in 0in 0pt" class=MsoNormal><o:p><FONT face=Calibri>&nbsp\;</FONT></o:p></P><P style="MARGIN: 0in 0in 0pt" class=MsoNormal><FONT face=Calibri>IIW provides a wide range of professional services\, including: architects\, civil engineering\, construction services\, environmental engineering\, land development\, municipal engineering\, land surveying\, structural engineering and transportation engineering.<SPAN style="mso-spacerun: yes">&nbsp\; </SPAN>Their client base encompasses both the public and private sector including city\, county and state government\, health care organizations\, PK-12 and higher education\, the financial industry\, hospitality\, religious organizations\, emergency service providers\, developers\, commercial businesses and industrial corporations.<SPAN style="mso-spacerun: yes">&nbsp\; </SPAN><o:p></o:p></FONT></P><P style="MARGIN: 0in 0in 0pt" class=MsoNormal><o:p><FONT face=Calibri>&nbsp\;</FONT></o:p></P><P style="MARGIN: 0in 0in 0pt" class=MsoNormal><FONT face=Calibri>IIW has been a member of the Chamber since 2010.<SPAN style="mso-spacerun: yes">&nbsp\; </SPAN>For more information please visit </FONT><A href="http://www.iiwengr.com"><FONT face="Times New Roman">www.iiwengr.com</FONT></A><FONT face=Calibri>.<o:p></o:p></FONT></P></DIV>
LOCATION:IIW\, PC127 West 76th St. Davenport\, IA 52806
UID:e.2843.701
SEQUENCE:3
DTSTAMP:20260421T220459Z
URL:https://member.quadcitieschamber.com/events/details/iiw-p-c-engineers-architects-surveyors-31-year-anniversary-ribbon-cutting-10-03-2013-701
END:VEVENT

END:VCALENDAR
