BEGIN:VCALENDAR
VERSION:2.0
PRODID:-//ChamberMaster//Event Calendar 2.0//EN
METHOD:PUBLISH
X-PUBLISHED-TTL:P3D
REFRESH-INTERVAL:P3D
CALSCALE:GREGORIAN
BEGIN:VEVENT
DTSTART:20141001T123000Z
DTEND:20141001T140000Z
X-MICROSOFT-CDO-ALLDAYEVENT:FALSE
SUMMARY:Illinois General Assembly - Meet the Candidates Forum
DESCRIPTION:The Chamber will be hosting a moderated forum for the following contested races in our region for the Illinois General Assembly: Illinois Senate (District 36) Sen. Mike Jacobs Neil Anderson  Illinois House (District 71) Rep. Mike Smiddy Jim Wozniak  *If you are interested in attending this event you can still do so as a walk-in.
X-ALT-DESC;FMTTYPE=text/html:<DIV style="FONT-FAMILY: Arial"><P class=MsoNormal style="MARGIN: 0in 0in 0pt"><FONT face=Calibri>The Chamber will be hosting a moderated forum for the following contested races in our region for the Illinois General Assembly:<?xml:namespace prefix = "o" ns = "urn:schemas-microsoft-com:office:office" /><o:p></o:p></FONT></P><P class=MsoNormal style="MARGIN: 0in 0in 0pt"><o:p><FONT face=Calibri>&nbsp\;</FONT></o:p></P><P class=MsoNormal style="MARGIN: 0in 0in 0pt"><B style="mso-bidi-font-weight: normal"><U><FONT face=Calibri>Illinois Senate (District 36)<o:p></o:p></FONT></U></B></P><P class=MsoNormal style="MARGIN: 0in 0in 0pt"><o:p><FONT face=Calibri>&nbsp\;</FONT></o:p></P><P class=MsoNormal style="MARGIN: 0in 0in 0pt"><FONT face=Calibri>Sen. Mike Jacobs </FONT></P><P class=MsoNormal style="MARGIN: 0in 0in 0pt"><FONT face=Calibri>Neil Anderson </FONT></P><P class=MsoNormal style="MARGIN: 0in 0in 0pt"><o:p><FONT face=Calibri>&nbsp\;</FONT></o:p></P><P class=MsoNormal style="MARGIN: 0in 0in 0pt"><B style="mso-bidi-font-weight: normal"><U><FONT face=Calibri>Illinois House (District 71)<o:p></o:p></FONT></U></B></P><P class=MsoNormal style="MARGIN: 0in 0in 0pt"><o:p><FONT face=Calibri>&nbsp\;</FONT></o:p></P><P class=MsoNormal style="MARGIN: 0in 0in 0pt"><FONT face=Calibri>Rep. Mike Smiddy </FONT></P><P class=MsoNormal style="MARGIN: 0in 0in 0pt"><FONT face=Calibri>Jim Wozniak </FONT></P><P class=MsoNormal style="MARGIN: 0in 0in 0pt"><FONT face=Calibri></FONT>&nbsp\;</P><P class=MsoNormal style="MARGIN: 0in 0in 0pt"><FONT face=Calibri>*If you are interested in attending this event you can still do so as a walk-in. </FONT></P></DIV>
LOCATION:Augustana College - Ken Anderson Academic All-America Club520 38th Street Rock Island\, IL
UID:e.2843.842
SEQUENCE:3
DTSTAMP:20260422T193617Z
URL:https://member.quadcitieschamber.com/events/details/illinois-general-assembly-meet-the-candidates-forum-10-01-2014-842
END:VEVENT

END:VCALENDAR
