BEGIN:VCALENDAR
VERSION:2.0
PRODID:-//ChamberMaster//Event Calendar 2.0//EN
METHOD:PUBLISH
X-PUBLISHED-TTL:P3D
REFRESH-INTERVAL:P3D
CALSCALE:GREGORIAN
BEGIN:VEVENT
DTSTART:20180416T163000Z
DTEND:20180416T180000Z
X-MICROSOFT-CDO-ALLDAYEVENT:FALSE
SUMMARY:Illinois Legislative Luncheon
DESCRIPTION:Legislative luncheon events provide Chamber members and their employees the opportunity to establish relationships with key policy makers and voice views on issues moving in the legislature. Networking and a facilitated question and answer session offer firsthand information on upcoming legislation and House and Senator committee activities. Utilize this event to connect with legislators and Chamber members to advocate for policies that will support growing the Quad Cities economy.\n\n\n\nThe following legislators are scheduled to join us at this luncheon:\n\nSen. Chuck Weaver\n\nRep. Mike Halpin\n\nRep. Tony McCombie\n\nRep. Dan Swanson\n\n\n\n*If you need any special requirements to attend this meeting please contact Marcy Hyder at mhyder@quadcitieschamber.com or 563-823-2690.
X-ALT-DESC;FMTTYPE=text/html:<span style="font-size:16px\;"><span style="font-family: arial\;">Legislative luncheon events provide Chamber members and their employees the opportunity to establish relationships with key policy makers and voice views on issues moving in the legislature. Networking and a facilitated question and answer session offer firsthand information on upcoming legislation and House and Senator committee activities. Utilize this event to connect with legislators and Chamber members to advocate for policies that will support growing the Quad Cities economy.</span></span><br />\n<br />\n<span style="color: rgb(51\, 51\, 51)\; font-family: arial\; font-size: 16px\; background-color: rgb(255\, 255\, 255)\;">The following legislators are scheduled to join us at this luncheon:</span><br />\n<span style="background-image: initial\; background-position: initial\; background-size: initial\; background-repeat: initial\; background-attachment: initial\; background-origin: initial\; background-clip: initial\;"><span style="color: rgb(39\, 50\, 56)\;"><span style="font-family: arial\, sans-serif\;"><span style="font-size: 10.5pt\;">Sen. Chuck Weaver</span></span></span></span><br />\n<span style="color: rgb(39\, 50\, 56)\;"><span style="font-family: arial\, sans-serif\;"><span style="font-size: 10.5pt\;"><span style="background-image: initial\; background-position: initial\; background-size: initial\; background-repeat: initial\; background-attachment: initial\; background-origin: initial\; background-clip: initial\;">Rep. Mike&nbsp\;Halpin</span><br />\n<span style="background-image: initial\; background-position: initial\; background-size: initial\; background-repeat: initial\; background-attachment: initial\; background-origin: initial\; background-clip: initial\;">Rep. Tony&nbsp\;McCombie</span><br />\n<span style="background-image: initial\; background-position: initial\; background-size: initial\; background-repeat: initial\; background-attachment: initial\; background-origin: initial\; background-clip: initial\;">Rep. Dan Swanson</span></span></span></span><br />\n<br />\n<span style="font-size:16px\;"><span style="background-image: initial\; background-position: initial\; background-size: initial\; background-repeat: initial\; background-attachment: initial\; background-origin: initial\; background-clip: initial\;"><span style="font-family: arial\, sans-serif\; letter-spacing: -0.15pt\;">*If you need any special requirements to attend this meeting please contact Marcy Hyder&nbsp\;at mhyder@quadcitieschamber.com or 563-823-2690.</span></span></span>
LOCATION:CityView Celebrations at Trimble Pointe 701 12th St Moline\, IL 61265
UID:e.2843.8826
SEQUENCE:3
DTSTAMP:20260423T122727Z
URL:https://member.quadcitieschamber.com/events/details/illinois-legislative-luncheon-8826
END:VEVENT

END:VCALENDAR
