BEGIN:VCALENDAR
VERSION:2.0
PRODID:-//ChamberMaster//Event Calendar 2.0//EN
METHOD:PUBLISH
X-PUBLISHED-TTL:P3D
REFRESH-INTERVAL:P3D
CALSCALE:GREGORIAN
BEGIN:VEVENT
DTSTART:20170214T173000Z
DTEND:20170214T190000Z
X-MICROSOFT-CDO-ALLDAYEVENT:FALSE
SUMMARY:Illinois Legislative Luncheons - Feb 2017
DESCRIPTION:*Registration for this event will close at 2 p.m. on Monday\, February 13th. Please be aware walk-In's will still be accepted at the door. Thank you in advance.\n\n\n\nPlease join us for our first Illinois legislative luncheon\, where you will have a chance connect with our state elected officials. We look forward to sharing our agenda for upcoming year and hearing the thoughts and agendas of our legislators. Most important\, this is an excellent opportunity for you to meet and share your concerns directly with your elected officials.\n\n\n\nAgenda:\n\n11:30 Doors Open\, Network with Elected Officials\n\n12:00 Program\n\n12:30 Q&A\n\n  \n\n*If you need any special requirements to attend this meeting please contact Megan Lovelady at mlovelady@quadcitieschamber.com*\n\n\n\nCancellation Policy:\n\nCancellations must be received at least 72 hours in advance in order to receive a registration refund. You may transfer your registration to another person within your company at no additional cost.
X-ALT-DESC;FMTTYPE=text/html:<p><span style="font-size:16px\;"><span style="font-family:arial\;"><span style="letter-spacing:-0.15pt\;"><span style="background-image:initial\;background-position:initial\;background-size:initial\;background-repeat:initial\;background-attachment:initial\;background-origin:initial\;background-clip:initial\;"><span style="color:windowtext\;"><span style="letter-spacing:-0.15pt\;">*Registration for this event will close at 2 p.m. on Monday\, February 13th. Please be aware walk-In&#39\;s will still be accepted at the door. Thank you in advance.<br />\n<br />\nPlease join us for our first Illinois legislative luncheon\, where you will have a chance connect with our state elected officials. We look forward to sharing our agenda for upcoming year and hearing the thoughts and agendas of our legislators. Most important\, this is an excellent opportunity for you to meet and share your concerns directly with your elected officials.</span></span></span></span></span></span><br />\n<br />\n<span style="font-family: arial\; font-size: 16px\;">Agenda:</span><br style="font-family: arial\; font-size: 16px\;" />\n<span style="font-family: arial\; font-size: 16px\;">11:30 Doors Open\, Network with Elected Officials</span><br style="font-family: arial\; font-size: 16px\;" />\n<span style="font-family: arial\; font-size: 16px\;">12:00 Program</span><br style="font-family: arial\; font-size: 16px\;" />\n<span style="font-family: arial\; font-size: 16px\;">12:30 Q&amp\;A</span><br />\n<span style="font-size:16px\;"><span style="font-family:arial\;"><span style="letter-spacing:-0.15pt\;"><span style="background-image:initial\;background-position:initial\;background-size:initial\;background-repeat:initial\;background-attachment:initial\;background-origin:initial\;background-clip:initial\;">&nbsp\;&nbsp\;</span></span><br />\n<span style="letter-spacing:-0.15pt\;"><span style="background-image:initial\;background-position:initial\;background-size:initial\;background-repeat:initial\;background-attachment:initial\;background-origin:initial\;background-clip:initial\;"><span style="background-image:initial\;background-position:initial\;background-size:initial\;background-repeat:initial\;background-attachment:initial\;background-origin:initial\;background-clip:initial\;">*If you need any special requirements to attend this meeting please contact Megan Lovelady at <span style="color:windowtext\;"><a designtimeurl="mailto:mlovelady@quadcitieschamber.com*" href="mailto:mlovelady@quadcitieschamber.com*">mlovelady@quadcitieschamber.com*</a><br />\n<br />\n<u>Cancellation Policy:</u></span></span></span></span><br />\nCancellations must be received at least 72 hours in advance in order to receive a registration refund. You may transfer your registration to another person within your company at no additional cost.</span></span></p>\n
LOCATION:CityView Celebrations at Trimble Point 701 12th Street Moline\, IL 61265
UID:e.2843.1373
SEQUENCE:3
DTSTAMP:20260424T070449Z
URL:https://member.quadcitieschamber.com/events/details/illinois-legislative-luncheons-feb-2017-1373
END:VEVENT

END:VCALENDAR
