BEGIN:VCALENDAR
VERSION:2.0
PRODID:-//ChamberMaster//Event Calendar 2.0//EN
METHOD:PUBLISH
X-PUBLISHED-TTL:P3D
REFRESH-INTERVAL:P3D
CALSCALE:GREGORIAN
BEGIN:VEVENT
DTSTART:20120530T160000Z
DTEND:20120530T163000Z
X-MICROSOFT-CDO-ALLDAYEVENT:FALSE
SUMMARY:Illinois Main Street Designation Ceremony
DESCRIPTION:Please help Moline Main Street Program celebrate the Illinois Main Street Designation on Wednesday\, May 30th at 11:00am – in front of the “City of Mills” mural in the Historic Block Courtyard\, River Drive between 15th and 16th streets. As ambassador to the Illinois Main Street program\, Lt. Governor Sheila Simon will designate Moline as the newest Main Street community.  "I'm excited to designate Moline as an official Main Street community. This means access to technical assistance and training on economic development. The designation will compliment what the Moline Centre Main Street Program has already done to revitalize this historic part of Moline\," Simon said. Moline Centre Main Street\, which is housed in the City of Moline's Planning and Economic Development Department\, is the only Illinois Main Street program that operates within a unit of local government.  Moline Centre Main Street submitted an application to Illinois Main Street for this prestigious designation in 2008.  Main Street designation is a very detailed and thorough process. We are honored to have been selected for participation in the Illinois Main Street Program\, and we are proud of what we have accomplished as a Main Street community over the past several years.   Our group has worked very hard to meet the criteria set by the Illinois Main Street Program\, and I want to thank all of our volunteers\, businesses and property owners\, and staff for their efforts. With their continued energy and dedication\, we will keep moving forward\, and make Downtown Moline Centre a thriving part of our community. Illinois Main Street is administered by the Office of Regional Economic Development at the Illinois Department of Commerce and Economic Opportunity (DCEO) and offers its designated communities technical assistance and training in how to revitalize traditional downtowns\, neighborhood business districts\, and urban corridors. The program is part of the National Main Street Program at the National Trust for Historic Preservation Main Street Center.
X-ALT-DESC;FMTTYPE=text/html:<P style="MARGIN: 0in 0in 0pt" class=MsoNormal><FONT face=Calibri>Please help Moline Main Street Program celebrate the Illinois Main Street Designation on Wednesday\, May 30<SUP>th</SUP> at 11:00am – in front of the “City of Mills” mural in the Historic Block Courtyard\, River Drive between 15<SUP>th</SUP> and 16<SUP>th</SUP> streets.</FONT></P><P style="MARGIN: 0in 0in 0pt" class=MsoNormal><?xml:namespace prefix = o ns = "urn:schemas-microsoft-com:office:office" /><o:p><FONT face=Calibri>&nbsp\;</FONT></o:p></P><P style="MARGIN: 0in 0in 0pt"><B><SPAN style="FONT-FAMILY: 'Verdana'\,'sans-serif'\; COLOR: #333227\; FONT-SIZE: 10pt">As ambassador to the Illinois Main Street program\, Lt. Governor Sheila Simon will designate Moline as the newest Main Street community.<o:p></o:p></SPAN></B></P><P style="MARGIN: 0in 0in 0pt"><B><SPAN style="FONT-FAMILY: 'Verdana'\,'sans-serif'\; COLOR: #333227\; FONT-SIZE: 10pt"><o:p></o:p></SPAN></B></P><P style="MARGIN: 0in 0in 0pt"><B><SPAN style="FONT-FAMILY: 'Verdana'\,'sans-serif'\; COLOR: #333227\; FONT-SIZE: 10pt">&nbsp\;<o:p></o:p></SPAN></B></P><P style="MARGIN: 0in 0in 0pt"><B><SPAN style="FONT-FAMILY: 'Verdana'\,'sans-serif'\; COLOR: #333227\; FONT-SIZE: 10pt">&nbsp\;"I'm excited to designate Moline as an official Main Street community. This means access to technical assistance and training on economic development. The designation will compliment what the Moline Centre Main Street Program has already done to revitalize this historic part of Moline\," Simon said.<o:p></o:p></SPAN></B></P><P style="MARGIN: 0in 0in 0pt"><B><SPAN style="FONT-FAMILY: 'Verdana'\,'sans-serif'\; COLOR: #333227\; FONT-SIZE: 10pt"><o:p></o:p></SPAN></B></P><P style="MARGIN: 0in 0in 0pt"><B><SPAN style="FONT-FAMILY: 'Verdana'\,'sans-serif'\; COLOR: #333227\; FONT-SIZE: 10pt">&nbsp\;<o:p></o:p></SPAN></B></P><P style="MARGIN: 0in 0in 0pt"><B><SPAN style="FONT-FAMILY: 'Verdana'\,'sans-serif'\; COLOR: #333227\; FONT-SIZE: 10pt">Moline Centre Main Street\, which is housed in the City of Moline's Planning and Economic Development Department\, is the only Illinois Main Street program that operates within a unit of local government.&nbsp\;<o:p></o:p></SPAN></B></P><P style="MARGIN: 0in 0in 0pt"><B><SPAN style="FONT-FAMILY: 'Verdana'\,'sans-serif'\; COLOR: #333227\; FONT-SIZE: 10pt"><o:p></o:p></SPAN></B></P><P style="MARGIN: 0in 0in 0pt"><B><SPAN style="FONT-FAMILY: 'Verdana'\,'sans-serif'\; COLOR: #333227\; FONT-SIZE: 10pt"><o:p></o:p></SPAN></B></P><P style="MARGIN: 0in 0in 0pt"><B><SPAN style="FONT-FAMILY: 'Verdana'\,'sans-serif'\; COLOR: #333227\; FONT-SIZE: 10pt">&nbsp\;<o:p></o:p></SPAN></B></P><P style="MARGIN: 0in 0in 0pt"><B><SPAN style="FONT-FAMILY: 'Verdana'\,'sans-serif'\; COLOR: #333227\; FONT-SIZE: 10pt">Moline Centre Main Street submitted an application to Illinois Main Street for this prestigious designation in 2008.&nbsp\; Main Street designation is a very detailed and thorough process. We are honored to have been selected for participation in the Illinois Main Street Program\, and we are proud of what we have accomplished as a Main Street community over the past several years. &nbsp\;<o:p></o:p></SPAN></B></P><P style="MARGIN: 0in 0in 0pt"><B><SPAN style="FONT-FAMILY: 'Verdana'\,'sans-serif'\; COLOR: #333227\; FONT-SIZE: 10pt">&nbsp\;<o:p></o:p></SPAN></B></P><P style="MARGIN: 0in 0in 0pt"><B><SPAN style="FONT-FAMILY: 'Verdana'\,'sans-serif'\; COLOR: #333227\; FONT-SIZE: 10pt">Our group has worked very hard to meet the criteria set by the Illinois Main Street Program\, and I want to thank all of our volunteers\, businesses and property owners\, and staff for their efforts. With their continued energy and dedication\, we will keep moving forward\, and make Downtown Moline Centre a thriving part of our community.<o:p></o:p></SPAN></B></P><P style="MARGIN: 0in 0in 0pt"><B><SPAN style="FONT-FAMILY: 'Verdana'\,'sans-serif'\; COLOR: #333227\; FONT-SIZE: 10pt">&nbsp\;<o:p></o:p></SPAN></B></P><P style="MARGIN: 0in 0in 0pt"><B><SPAN style="FONT-FAMILY: 'Verdana'\,'sans-serif'\; COLOR: #333227\; FONT-SIZE: 10pt">Illinois Main Street is administered by the Office of Regional Economic Development at the Illinois Department of Commerce and Economic Opportunity (DCEO) and offers its designated communities technical assistance and training in how to revitalize traditional downtowns\, neighborhood business districts\, and urban corridors. The program is part of the National Main Street Program at the National Trust for Historic Preservation Main Street Center.<o:p></o:p></SPAN></B></P><P>&nbsp\;</P>
LOCATION:In front of the "City of Mills" mural in the Historic BlockRiver Drive between 15th & 16th St Moline\, IL 61265
UID:e.2843.383
SEQUENCE:3
DTSTAMP:20260422T013203Z
URL:https://member.quadcitieschamber.com/events/details/illinois-main-street-designation-ceremony-05-30-2012-383
END:VEVENT

END:VCALENDAR
