BEGIN:VCALENDAR
VERSION:2.0
PRODID:-//ChamberMaster//Event Calendar 2.0//EN
METHOD:PUBLISH
X-PUBLISHED-TTL:P3D
REFRESH-INTERVAL:P3D
CALSCALE:GREGORIAN
BEGIN:VEVENT
DTSTART:20170607T173000Z
DTEND:20170607T190000Z
X-MICROSOFT-CDO-ALLDAYEVENT:FALSE
SUMMARY:Illinois State Comptroller Susana Mendoza Business Forum
DESCRIPTION:You're invited to hear from Illinois State Comptroller Susana Mendoza who will be speaking with business  and community leaders in the Quad Cities region about the impact of the current financial situation in Illinois. Mendoza will provide an overview of the state's financial status\, highlight the cyclical impact of the budget impasse on taxpayers and promote the need for a more transparent form of financial accountability.
X-ALT-DESC;FMTTYPE=text/html:<br>\n<span style="font-size:14px\;"><span style="font-family:arial\;">You're invited to hear from </span></span><span style="font-family:arial\,sans-serif\;"><span style="font-size:14px\;"><span style="font-family:arial\;">Illinois State Comptroller Susana Mendoza who will be speaking with business &nbsp\;and community leaders in the Quad Cities region about the impact of the current financial situation in Illinois. Mendoza will provide an overview of the state's financial status\, highlight the cyclical impact of the budget impasse on taxpayers and promote the need for a more transparent form of financial accountability.</span></span>&nbsp\;</span>
LOCATION:Western Illinois University 3300 River Drive Riverfront Hall - Rooms 103-104 Moline\, Illinois Parking is located at Ben Butterworth parkway across the street
UID:e.2843.6059
SEQUENCE:3
DTSTAMP:20260424T015226Z
URL:https://member.quadcitieschamber.com/events/details/illinois-state-comptroller-susana-mendoza-business-forum-6059
END:VEVENT

END:VCALENDAR
