BEGIN:VCALENDAR
VERSION:2.0
PRODID:-//ChamberMaster//Event Calendar 2.0//EN
METHOD:PUBLISH
X-PUBLISHED-TTL:P3D
REFRESH-INTERVAL:P3D
CALSCALE:GREGORIAN
BEGIN:VEVENT
DTSTART:20130403T140000Z
DTEND:20130403T153000Z
X-MICROSOFT-CDO-ALLDAYEVENT:FALSE
SUMMARY:Illinois Transportation Briefing/Roundtable
DESCRIPTION:The Quad Cities Chamber\, Great Plain Laborers\, MetroLINK and the Transportation for Illinois Coalition invite you to attend our Transportation Briefing and Infrastructure Priorities\, Successes\, And Area Needs  Please join us for a breakfast discussion regarding the impact of transportation investment in Illinois and the need for a new capital program. We hope to bring together local elected and appointed officials\, transportation officials\, economic development officials\, and labor and business leaders.  A brief update on the state of Illinois' transportation infrastructure will be followed by updates from area leaders and a roundtable discussion.  Date: Wednesday\, April 3rdTime: 9:00am - 10:30am Location: Quad Cities MetroLINK Centre Station                  1200 River Drive                   Moline\, IL 61265
X-ALT-DESC;FMTTYPE=text/html:<P style="MARGIN: 0in 0in 0pt\; FONT-FAMILY: Arial" class=MsoNormal><A href="mailto:svandewoestyne@quadcitieschamber.com?subject=registration"><SPAN style="COLOR: windowtext\; TEXT-DECORATION: none\; text-underline: none"></SPAN></A></P><DIV style="FONT-FAMILY: Arial" align=center><SPAN style="FONT-FAMILY: 'Calibri'\,'sans-serif'\; FONT-SIZE: 11pt\; mso-fareast-font-family: Calibri\; mso-fareast-theme-font: minor-latin\; mso-bidi-font-family: 'Times New Roman'\; mso-ansi-language: EN-US\; mso-fareast-language: EN-US\; mso-bidi-language: AR-SA"><A href="mailto:svandewoestyne@quadcitieschamber.com?subject=registration"><SPAN style="COLOR: windowtext\; TEXT-DECORATION: none\; text-underline: none"></SPAN></A></SPAN><FONT face="Times New Roman"></FONT>&nbsp\;</DIV><DIV style="FONT-FAMILY: Arial" align=center><FONT face="Times New Roman"></FONT>&nbsp\;</DIV><DIV style="FONT-FAMILY: Arial" align=center><FONT face="Times New Roman">The Quad Cities Chamber\, Great Plain Laborers\, MetroLINK and the Transportation for Illinois Coalition invite you to attend our </FONT></DIV><DIV style="FONT-FAMILY: Arial" align=center><STRONG><FONT face="Times New Roman">Transportation Briefing and Infrastructure Priorities\, Successes\, And Area Needs </FONT></STRONG></DIV><DIV style="FONT-FAMILY: Arial"><FONT face="Times New Roman"></FONT>&nbsp\;</DIV><DIV style="FONT-FAMILY: Arial"><FONT face="Times New Roman">Please join us for a breakfast discussion regarding the impact of transportation investment in Illinois and the need for a new capital program. We hope to bring together local elected and appointed officials\, transportation officials\, economic development officials\, and labor and business leaders. </FONT></DIV><DIV style="FONT-FAMILY: Arial"><FONT face="Times New Roman"></FONT>&nbsp\;</DIV><DIV style="FONT-FAMILY: Arial"><FONT face="Times New Roman">A brief update on the state of Illinois' transportation infrastructure will be followed by updates from area leaders and a roundtable discussion. </FONT></DIV><DIV style="FONT-FAMILY: Arial" align=center><FONT face="Times New Roman"></FONT>&nbsp\;</DIV><DIV style="FONT-FAMILY: Arial" align=left><FONT face="Times New Roman"><STRONG>Date</STRONG>: Wednesday\, April 3rd</FONT></DIV><DIV style="FONT-FAMILY: Arial" align=left><FONT face="Times New Roman"><STRONG>Time</STRONG>: 9:00am - 10:30am </FONT></DIV><DIV style="FONT-FAMILY: Arial" align=left><FONT face="Times New Roman"><STRONG>Location</STRONG>: Quad Cities MetroLINK Centre Station </FONT></DIV><DIV style="FONT-FAMILY: Arial" align=left><FONT face="Times New Roman">&nbsp\;&nbsp\;&nbsp\;&nbsp\;&nbsp\;&nbsp\;&nbsp\;&nbsp\;&nbsp\;&nbsp\;&nbsp\;&nbsp\;&nbsp\;&nbsp\;&nbsp\;&nbsp\; 1200 River Drive </FONT></DIV><DIV style="FONT-FAMILY: Arial" align=left><FONT face="Times New Roman">&nbsp\;&nbsp\;&nbsp\;&nbsp\;&nbsp\;&nbsp\;&nbsp\;&nbsp\;&nbsp\;&nbsp\;&nbsp\;&nbsp\;&nbsp\;&nbsp\;&nbsp\;&nbsp\;&nbsp\; Moline\, IL 61265</FONT></DIV>
LOCATION:
UID:e.2843.542
SEQUENCE:3
DTSTAMP:20260421T120945Z
URL:https://member.quadcitieschamber.com/events/details/illinois-transportation-briefing-roundtable-04-03-2013-542
END:VEVENT

END:VCALENDAR
