BEGIN:VCALENDAR
VERSION:2.0
PRODID:-//ChamberMaster//Event Calendar 2.0//EN
METHOD:PUBLISH
X-PUBLISHED-TTL:P3D
REFRESH-INTERVAL:P3D
CALSCALE:GREGORIAN
BEGIN:VEVENT
DTSTART:20200814T140000Z
DTEND:20200814T210000Z
X-MICROSOFT-CDO-ALLDAYEVENT:FALSE
SUMMARY:Immigrant Entrepreneurs Summit
DESCRIPTION:The Immigrant Entrepreneurs Summit's mission is to bring businesses of diverse backgrounds together to share\, learn\, and celebrate the immigrant entrepreneurship experience and contribution to the overall community. The Summit exhibits the success stories of immigrant entrepreneurs. The event strives to create true understanding among different ethnic groups\, and business growth tips are shared among immigrant business owners. Keys to success are shared in a creative\, competitive\, and supportive environment.
X-ALT-DESC;FMTTYPE=text/html:The Immigrant Entrepreneurs Summit&rsquo\;s mission is to bring businesses of diverse backgrounds together to share\, learn\, and celebrate the immigrant entrepreneurship experience and contribution to the overall community. The Summit exhibits the success stories of immigrant entrepreneurs. The event strives to create true understanding among different ethnic groups\, and business growth tips are shared among immigrant business owners. Keys to success are shared in a creative\, competitive\, and supportive environment.
LOCATION:Virtual
UID:e.2843.17904
SEQUENCE:3
DTSTAMP:20260421T140653Z
URL:https://member.quadcitieschamber.com/events/details/immigrant-entrepreneurs-summit-17904
END:VEVENT

END:VCALENDAR
