BEGIN:VCALENDAR
VERSION:2.0
PRODID:-//ChamberMaster//Event Calendar 2.0//EN
METHOD:PUBLISH
X-PUBLISHED-TTL:P3D
REFRESH-INTERVAL:P3D
CALSCALE:GREGORIAN
BEGIN:VEVENT
DTSTART:20201016T140000Z
DTEND:20201016T170000Z
X-MICROSOFT-CDO-ALLDAYEVENT:FALSE
SUMMARY:Inclusive Leadership - Virtual Seminar
DESCRIPTION:In today's workplace\, cultural competency\, or one's commitment to diversity\, inclusion\, and belonging\, has a large impact on ability to foster teamwork\, collaboration and success. During this session\, participants will assess their cultural intelligence and work to recognize their own biases and the biases of the individuals around them. Virtual meeting link will be shared prior to the event\, please download Zoom on your device. For more information\, contact pd@sau.edu or visit www.sau.edu/pd.
X-ALT-DESC;FMTTYPE=text/html:<span style="background-color:rgb(248\, 248\, 248)\; font-family:-apple-system\,blinkmacsystemfont\,segoe ui\,roboto\,helvetica neue\,arial\,sans-serif\; font-size:16px">In today&#39\;s workplace\, cultural competency\, or one&#39\;s commitment to diversity\, inclusion\, and belonging\, has a large impact on ability to foster teamwork\, collaboration and success. During this session\, participants will assess their cultural intelligence and work to recognize their own biases and the biases of the individuals around them. Virtual meeting link will be shared prior to the event\, please download Zoom on your device. For more information\, contact pd@sau.edu or visit www.sau.edu/pd.</span>
LOCATION:Virtual via Zoom
UID:e.2843.17917
SEQUENCE:3
DTSTAMP:20260421T105828Z
URL:https://member.quadcitieschamber.com/events/details/inclusive-leadership-virtual-seminar-17917
END:VEVENT

END:VCALENDAR
