BEGIN:VCALENDAR
VERSION:2.0
PRODID:-//ChamberMaster//Event Calendar 2.0//EN
METHOD:PUBLISH
X-PUBLISHED-TTL:P3D
REFRESH-INTERVAL:P3D
CALSCALE:GREGORIAN
BEGIN:VEVENT
DTSTART:20180409T130000Z
DTEND:20180409T220000Z
X-MICROSOFT-CDO-ALLDAYEVENT:FALSE
SUMMARY:Industrial Chemical Spill Response
DESCRIPTION:This course provides training for industrial hazmat and spill response teams\, and industrial emergency response personnel as outlined in OSHA 29 CFR 1910.120(q). Hands-on exercises in full protective equipment are conducted. To register\, call 563-441-4100. Section #185338.
X-ALT-DESC;FMTTYPE=text/html:This course provides training for industrial hazmat and spill response teams\, and industrial emergency response personnel as outlined in OSHA 29 CFR 1910.120(q). Hands-on exercises in full protective equipment are conducted. To register\, call 563-441-4100. Section #185338.
LOCATION:Midwest Center for Public Safety Training\, 8200 N. Fairmount\, Davenport\, IA 52806
UID:e.2843.12111
SEQUENCE:3
DTSTAMP:20260423T122839Z
URL:https://member.quadcitieschamber.com/events/details/industrial-chemical-spill-response-12111
END:VEVENT

END:VCALENDAR
