BEGIN:VCALENDAR
VERSION:2.0
PRODID:-//ChamberMaster//Event Calendar 2.0//EN
METHOD:PUBLISH
X-PUBLISHED-TTL:P3D
REFRESH-INTERVAL:P3D
CALSCALE:GREGORIAN
BEGIN:VEVENT
DTSTART:20190508T130000Z
DTEND:20190508T220000Z
X-MICROSOFT-CDO-ALLDAYEVENT:FALSE
SUMMARY:Industrial Chemical Spill Response – Operations Level #1266
DESCRIPTION:The course provides participants the knowledge and skills necessary to ensure the safety of response personnel when taking action to contain and control releases of hazardous materials as well as response to disaster events that have impacted the workplace and community. This course is intended for awareness and operations level responders. This training will aid employers in compliance with state and federal regulations applicable to spill and disaster response cleanup. Call EICC at 563.441.4100 to register.
X-ALT-DESC;FMTTYPE=text/html:The course provides participants the knowledge and skills necessary to ensure the safety of response personnel when taking action to contain and control releases of hazardous materials as well as response to disaster events that have impacted the workplace and community. This course is intended for awareness and operations level responders. This training will aid employers in compliance with state and federal regulations applicable to spill and disaster response cleanup. Call EICC at 563.441.4100 to register.
LOCATION:Scott Community College\, 500 Belmont Rd\, Room 3104\, Bettendorf\, IA 52722
UID:e.2843.14321
SEQUENCE:3
DTSTAMP:20260422T145409Z
URL:https://member.quadcitieschamber.com/events/details/industrial-chemical-spill-response-operations-level-1266-14321
END:VEVENT

END:VCALENDAR
