BEGIN:VCALENDAR
VERSION:2.0
PRODID:-//ChamberMaster//Event Calendar 2.0//EN
METHOD:PUBLISH
X-PUBLISHED-TTL:P3D
REFRESH-INTERVAL:P3D
CALSCALE:GREGORIAN
BEGIN:VEVENT
DTSTART:20180824T130000Z
DTEND:20180824T220000Z
X-MICROSOFT-CDO-ALLDAYEVENT:FALSE
SUMMARY:Industrial Chemical Spill Response Operations Level #392
DESCRIPTION:The course provides participants the knowledge and skills necessary to ensure the safety of response personnel when taking action to contain and control releases of hazardous materials as well as response to disaster events that have impacted the workplace and community. This course is intended for awareness and operations level responders. This training will aid employers in compliance with state and federal regulations applicable to spill and disaster response cleanup. To register\, call 563.441.4100.
X-ALT-DESC;FMTTYPE=text/html:The course provides participants the knowledge and skills necessary to ensure the safety of response personnel when taking action to contain and control releases of hazardous materials as well as response to disaster events that have impacted the workplace and community. This course is intended for awareness and operations level responders. This training will aid employers in compliance with state and federal regulations applicable to spill and disaster response cleanup. To register\, call 563.441.4100.
LOCATION:EICC Midwest Center for Public Safety Training\, 8200 N. Fairmount\, Davenport\, IA 52806
UID:e.2843.13393
SEQUENCE:3
DTSTAMP:20260423T062028Z
URL:https://member.quadcitieschamber.com/events/details/industrial-chemical-spill-response-operations-level-392-13393
END:VEVENT

END:VCALENDAR
