BEGIN:VCALENDAR
VERSION:2.0
PRODID:-//ChamberMaster//Event Calendar 2.0//EN
METHOD:PUBLISH
X-PUBLISHED-TTL:P3D
REFRESH-INTERVAL:P3D
CALSCALE:GREGORIAN
BEGIN:VEVENT
DTSTART:20190111T140000Z
DTEND:20190111T230000Z
X-MICROSOFT-CDO-ALLDAYEVENT:FALSE
SUMMARY:Industrial Chemical Spill Response Refresher
DESCRIPTION:This course is the annual refresher to the Industrial Chemical Spill Response course. The session provides training for industrial hazardous materials and spill response teams\, and industrial emergency response personnel as outlined in OSHA 29 CFR 1910.120(q). Hands-on exercises in full protective equipment are conducted. Fulfills the requirement for both technicians and operations level personnel. Class #1202. Call 563.441.4100 to register.
X-ALT-DESC;FMTTYPE=text/html:<p class="MsoNormal">This course is the annual refresher to the Industrial Chemical Spill Response course. The session provides training for industrial hazardous materials and spill response teams\, and industrial emergency response personnel as outlined in OSHA 29 CFR 1910.120(q). Hands-on exercises in full protective equipment are conducted. Fulfills the requirement for both technicians and operations level personnel. Class #1202. Call 563.441.4100 to register.</p>\n<style type="text/css"><!--\n /* Font Definitions */\n @font-face\n	{font-family:"Cambria Math"\;\n	panose-1:2 4 5 3 5 4 6 3 2 4\;\n	mso-font-charset:0\;\n	mso-generic-font-family:roman\;\n	mso-font-pitch:variable\;\n	mso-font-signature:-536870145 1107305727 0 0 415 0\;}\n@font-face\n	{font-family:Calibri\;\n	panose-1:2 15 5 2 2 2 4 3 2 4\;\n	mso-font-charset:0\;\n	mso-generic-font-family:swiss\;\n	mso-font-pitch:variable\;\n	mso-font-signature:-536870145 1073786111 1 0 415 0\;}\n /* Style Definitions */\n p.MsoNormal\, li.MsoNormal\, div.MsoNormal\n	{mso-style-unhide:no\;\n	mso-style-qformat:yes\;\n	mso-style-parent:""\;\n	margin:0in\;\n	margin-bottom:.0001pt\;\n	mso-pagination:widow-orphan\;\n	font-size:11.0pt\;\n	font-family:"Calibri"\,sans-serif\;\n	mso-fareast-font-family:Calibri\;\n	mso-fareast-theme-font:minor-latin\;\n	mso-bidi-font-family:"Times New Roman"\;}\n.MsoChpDefault\n	{mso-style-type:export-only\;\n	mso-default-props:yes\;\n	font-size:10.0pt\;\n	mso-ansi-font-size:10.0pt\;\n	mso-bidi-font-size:10.0pt\;}\n@page WordSection1\n	{size:8.5in 11.0in\;\n	margin:1.0in 1.0in 1.0in 1.0in\;\n	mso-header-margin:.5in\;\n	mso-footer-margin:.5in\;\n	mso-paper-source:0\;}\ndiv.WordSection1\n	{page:WordSection1\;}\n-->\n</style>\n
LOCATION:EICC Midwest Center for Public Safety Training\, 8200 N. Fairmount\, Davenport\, IA 52806
UID:e.2843.13660
SEQUENCE:3
DTSTAMP:20260422T215241Z
URL:https://member.quadcitieschamber.com/events/details/industrial-chemical-spill-response-refresher-01-11-2019-13660
END:VEVENT

END:VCALENDAR
