BEGIN:VCALENDAR
VERSION:2.0
PRODID:-//ChamberMaster//Event Calendar 2.0//EN
METHOD:PUBLISH
X-PUBLISHED-TTL:P3D
REFRESH-INTERVAL:P3D
CALSCALE:GREGORIAN
BEGIN:VEVENT
DTSTART:20180123T140000Z
DTEND:20180123T230000Z
X-MICROSOFT-CDO-ALLDAYEVENT:FALSE
SUMMARY:Industrial Chemical Spill Response Refresher
DESCRIPTION:This course is the annual refresher to the Industrial Chemical Spill Response course. The session provides training for industrial hazardous materials and spill response teams\, and industrial emergency response personnel as outlined in OSHA 29 CFR 1910.120(q). Hands-on exercises in full protective equipment are conducted. Fulfills the requirement for both technicians and operations level personnel. Section #185333.
X-ALT-DESC;FMTTYPE=text/html:<br />\nThis course is the annual refresher to the Industrial Chemical Spill Response course. The session provides training for industrial hazardous materials and spill response teams\, and industrial emergency response personnel as outlined in OSHA 29 CFR 1910.120(q). Hands-on exercises in full protective equipment are conducted. Fulfills the requirement for both technicians and operations level personnel. Section <span style="font-family:calibri\,sans-serif"><span style="font-size:11.0pt">#185333.</span></span>
LOCATION:EICC Midwest Center for Public Safety Training\, 8200 N. Fairmount\, Davenport\, IA 52806
UID:e.2843.9948
SEQUENCE:3
DTSTAMP:20260423T165534Z
URL:https://member.quadcitieschamber.com/events/details/industrial-chemical-spill-response-refresher-9948
END:VEVENT

END:VCALENDAR
