BEGIN:VCALENDAR
VERSION:2.0
PRODID:-//ChamberMaster//Event Calendar 2.0//EN
METHOD:PUBLISH
X-PUBLISHED-TTL:P3D
REFRESH-INTERVAL:P3D
CALSCALE:GREGORIAN
BEGIN:VEVENT
DTSTART:20131115T223000Z
DTEND:20131115T230000Z
X-MICROSOFT-CDO-ALLDAYEVENT:FALSE
SUMMARY:Infinity Salon & Spa Grand Opening Ribbon Cutting
DESCRIPTION:Infinity Salon & Spa\, located at 220 W. 3rd Street Davenport\, IA 52801\, will be celebrating their grand opening with a ribbon cutting on Friday\, November 15th at 4:30pm.  http://mapq.st/1aK3poX.  Infinity Salon and Spa offers a full service Aveda salon and spa.  Owner\, Katherine “KT” Garcia\, believes that partnering with Aveda is just one of the many ways that Infinity Salon & Spa is able to meet every need of their guests.  Their stores hours are Monday-Friday\, 9:00am-8:00pm and Saturday 10:00am-4:00pm.    For more information please visit www.infinityqc.com.
X-ALT-DESC;FMTTYPE=text/html:<P style="MARGIN: 0in 0in 0pt" class=MsoNormal><?xml:namespace prefix = o ns = "urn:schemas-microsoft-com:office:office" /><o:p><FONT face=Calibri>Infinity Salon &amp\; Spa\, <B style="mso-bidi-font-weight: normal">located at 220 W. 3<SUP>rd</SUP> Street Davenport\, IA 52801</B>\, will be celebrating their grand opening with a ribbon cutting on <B style="mso-bidi-font-weight: normal">Friday\, November 15<SUP>th</SUP> at 4:30pm</B>.<SPAN style="mso-spacerun: yes">&nbsp\; </SPAN><A href="http://mapq.st/1aK3poX"><FONT face="Times New Roman">http://mapq.st/1aK3poX</FONT></A>. <o:p></o:p></P><P style="MARGIN: 0in 0in 0pt" class=MsoNormal><o:p>&nbsp\;</o:p></P><P style="MARGIN: 0in 0in 0pt" class=MsoNormal>Infinity Salon and Spa offers a full service Aveda salon and spa.<SPAN style="mso-spacerun: yes">&nbsp\; </SPAN>Owner\, Katherine “KT” Garcia\, believes that partnering with Aveda is just one of the many ways that Infinity Salon &amp\; Spa is able to meet every need of their guests.<SPAN style="mso-spacerun: yes">&nbsp\; </SPAN>Their stores hours are Monday-Friday\, 9:00am-8:00pm and Saturday 10:00am-4:00pm.<SPAN style="mso-spacerun: yes">&nbsp\; </SPAN><o:p></o:p></P><P style="MARGIN: 0in 0in 0pt" class=MsoNormal><o:p>&nbsp\;</o:p></P><P style="MARGIN: 0in 0in 0pt" class=MsoNormal><o:p>&nbsp\;</o:p></P><P style="MARGIN: 0in 0in 0pt" class=MsoNormal>For more information please visit <A href="http://www.infinityqc.com"><FONT face="Times New Roman">www.infinityqc.com</FONT></A>. <o:p></o:p></P><P style="MARGIN: 0in 0in 0pt" class=MsoNormal></FONT></o:p></P><P>&nbsp\;</P>
LOCATION:Infinity Salon and Spa220 W. 3rd St. Davenport\, IA 52801
UID:e.2843.745
SEQUENCE:3
DTSTAMP:20260421T220901Z
URL:https://member.quadcitieschamber.com/events/details/infinity-salon-spa-grand-opening-ribbon-cutting-11-15-2013-745
END:VEVENT

END:VCALENDAR
