BEGIN:VCALENDAR
VERSION:2.0
PRODID:-//ChamberMaster//Event Calendar 2.0//EN
METHOD:PUBLISH
X-PUBLISHED-TTL:P3D
REFRESH-INTERVAL:P3D
CALSCALE:GREGORIAN
BEGIN:VEVENT
DTSTART:20180211T223000Z
DTEND:20180211T234500Z
X-MICROSOFT-CDO-ALLDAYEVENT:FALSE
SUMMARY:Integrative Medicine Clinic
DESCRIPTION:Mandala Integrative Medicine is proud to host Ignite Your Relationships with Rumaisa Khawaja. This FREE seminar will focus on how your relationship with yourself impacts relationships with others\, as well as how to have more effective relationships both in your home and at work. Element Tea and Wine Lounge will be hosting this insightful event on Sunday\, February 11th from 4:30pm   5:45pm in Davenport\, Iowa. You can sign-up for this event on the Ignite Your Relationships Facebook page at https://www.facebook.com/events/1971989222814776??ti=ia You can expect a deeply informative walk through relationships and the many factors that can prevent them from coming to fruition. "I guide people to push through their fears and personal blocks that hold them back from living the life they never saw possible" Khawaja reports. Rumaisa Khawaja is a Life Coach and the Director of Outreach and Media Relations for Mandala Integrative Medicine which has given her experience in fostering both personal and professional relationships. After completing her studies at the Wright Graduate University for the Realization of Human Potential\, she became a Certified Coach in Emotional Intelligence. Khawaja has built her career helping people achieve dynamic\, positive changes in their lives by providing them meaningful tools they can successfully and consistently integrate into their day-to-day activities. Khawaja is proud to say\, "As a Life Coach at Mandala Integrative Medicine\, I help our clients learn and understand how to process their emotions when it comes to food\, relationships\, career and personal development." 17 years of experience across the country in New York City\, Los Angeles\, and Chicago have helped her hone her expertise of maximizing life and the relationships we form.
X-ALT-DESC;FMTTYPE=text/html:Mandala Integrative Medicine is proud to host Ignite Your Relationships with Rumaisa Khawaja. This FREE seminar will focus on how your relationship with yourself impacts relationships with others\, as well as how to have more effective relationships both in your home and at work. Element Tea and Wine Lounge will be hosting this insightful event on Sunday\, February 11th from 4:30pm &ndash\; 5:45pm in Davenport\, Iowa. You can sign-up for this event on the Ignite Your Relationships Facebook page at https://www.facebook.com/events/1971989222814776??ti=ia You can expect a deeply informative walk through relationships and the many factors that can prevent them from coming to fruition. &ldquo\;I guide people to push through their fears and personal blocks that hold them back from living the life they never saw possible&rdquo\; Khawaja reports. Rumaisa Khawaja is a Life Coach and the Director of Outreach and Media Relations for Mandala Integrative Medicine which has given her experience in fostering both personal and professional relationships. After completing her studies at the Wright Graduate University for the Realization of Human Potential\, she became a Certified Coach in Emotional Intelligence. Khawaja has built her career helping people achieve dynamic\, positive changes in their lives by providing them meaningful tools they can successfully and consistently integrate into their day-to-day activities. Khawaja is proud to say\, &ldquo\;As a Life Coach at Mandala Integrative Medicine\, I help our clients learn and understand how to process their emotions when it comes to food\, relationships\, career and personal development.&rdquo\; 17 years of experience across the country in New York City\, Los Angeles\, and Chicago have helped her hone her expertise of maximizing life and the relationships we form.
LOCATION:Element Tea and Wine Lounge: 5345 Belle Ct #4\, Davenport\, IA 52807
UID:e.2843.10023
SEQUENCE:3
DTSTAMP:20260423T152858Z
URL:https://member.quadcitieschamber.com/events/details/integrative-medicine-clinic-10023
END:VEVENT

END:VCALENDAR
