BEGIN:VCALENDAR
VERSION:2.0
PRODID:-//ChamberMaster//Event Calendar 2.0//EN
METHOD:PUBLISH
X-PUBLISHED-TTL:P3D
REFRESH-INTERVAL:P3D
CALSCALE:GREGORIAN
BEGIN:VEVENT
DTSTART:20190520T163000Z
DTEND:20190520T190000Z
X-MICROSOFT-CDO-ALLDAYEVENT:FALSE
SUMMARY:Integrity Integrated 20th Anniversary Leadership Luncheon
DESCRIPTION:Integrity Integrated and Ginny Wilson-Peters celebrates 20 years of creating\, building and connecting leaders this year. To commemorate this milestone\, Integrity Integrated will hold a celebratory Leadership Luncheon on May 20\, 2019 at the Quad Cities Waterfront Convention Center.\n\n\n\nThe luncheon will feature Quad City native and internationally recognized 2013 CNN Hero of the Year\, Chad Pregracke. Best known for starting out as a young man in East Moline\, Illinois wanting a cleaner waterway\, Chad has become the champion for the Mississippi River. Growing up on its banks\, he worked as a commercial shell diver during his early years\, experiencing the river from the bottom up.\n\n\n\nCheck in and registration will begin at 11:30AM with the keynote presentation starting at 12. A coffee and cake reception will take place from 1:00-2:00.\n\n \n\nCorporate tables and individual tickets are available for purchase at https://integrityintegrated.simpletix.com/. For more information\, contact Integrity Integrated's Marketing Office at 563-359-1099 or Shari at SBaker@integrityintegrated.com.
X-ALT-DESC;FMTTYPE=text/html:<span style="font-family:verdana\,sans-serif"><span style="font-size:10.0pt">Integrity Integrated and Ginny Wilson-Peters celebrates 20 years of creating\, building and connecting leaders this year. To commemorate this milestone\, Integrity Integrated will hold a celebratory Leadership Luncheon on May 20\, 2019 at the Quad Cities Waterfront Convention Center.</span></span><br />\n<br />\n<span style="font-family:verdana\,sans-serif"><span style="font-size:10.0pt">The luncheon will feature Quad City native and internationally recognized 2013 CNN Hero of the Year\, Chad Pregracke. <span style="color:black">Best known for starting out </span>as a young man in East Moline\, Illinois wanting a cleaner waterway\, Chad has become the champion for the Mississippi River. Growing up on its banks\, he worked <span style="color:black">as a commercial shell diver during his early years\, experiencing the river from the bottom up.</span></span></span><br />\n<br />\n<span style="color:black"><span style="font-family:verdana\,sans-serif"><span style="font-size:10.0pt">Check in and registration will begin at 11:30AM with the keynote presentation starting at 12. A coffee and cake reception will take place from 1:00-2:00.</span></span></span><br />\n&nbsp\;<br />\n<span style="font-family:verdana\,sans-serif"><span style="font-size:10.0pt">Corporate tables and individual tickets are available for purchase at </span></span><a href="https://integrityintegrated.simpletix.com/"><span style="font-family:verdana\,sans-serif"><span style="font-size:10.0pt">https://integrityintegrated.simpletix.com/</span></span></a><span style="font-family:verdana\,sans-serif"><span style="font-size:10.0pt">. For more information\, contact Integrity Integrated&rsquo\;s Marketing Office at 563-359-1099 or Shari at </span></span><a href="mailto:SBaker@integrityintegrated.com"><span style="font-family:verdana\,sans-serif"><span style="font-size:10.0pt">SBaker@integrityintegrated.com</span></span></a><span style="font-family:verdana\,sans-serif"><span style="font-size:10.0pt">.</span></span><br />\n&nbsp\;
LOCATION:Quad Cities Waterfront Convention Center 2021 State Street Bettendorf\, Iowa 52722
UID:e.2843.14335
SEQUENCE:3
DTSTAMP:20260422T145322Z
URL:https://member.quadcitieschamber.com/events/details/integrity-integrated-20th-anniversary-leadership-luncheon-14335
END:VEVENT

END:VCALENDAR
