BEGIN:VCALENDAR
VERSION:2.0
PRODID:-//ChamberMaster//Event Calendar 2.0//EN
METHOD:PUBLISH
X-PUBLISHED-TTL:P3D
REFRESH-INTERVAL:P3D
CALSCALE:GREGORIAN
BEGIN:VEVENT
DTSTART:20121008T230000Z
DTEND:20121008T233000Z
X-MICROSOFT-CDO-ALLDAYEVENT:FALSE
SUMMARY:International Association of Administrative Professionals (QC Chapter) Ribbon Cutting
DESCRIPTION:Please help new member\, Quad City Chapter IAAP\, celebrate their 60th anniversary with a ribbon cutting on Monday\, October 8th\, 2012 at 6:00pm.  Located at 3800 Avenue of the Cities in Moline – just west of the Walgreens. Receiving its charter in 1952\, the Quad City Chapter\, beginning as the Rock River Chapter of IAAP\, has a long and proud history of serving office professionals with opportunities for personal and professional growth\, leadership training\, and networking at the local\, state and international levels.  The Chapter also values its role as a community service organization\, volunteering hours and supporting charitable endeavors in the area.  The Quad City Chapter also sponsors a collegiate chapter located at Black Hawk College in Moline\, Illinois. IAAP recognizes that by living in the Information Age\, office professionals must stay in the forefront of current events and technological changes in order to increase their productivity.  Members of IAAP receive the tools and knowledge necessary to become more effective contributors to their organizations\, and the Quad City Chapter has accepted the challenge to provide these opportunities to our members. Anyone currently employed as an administrative professional or other qualified office professional\; holder of the Certified Administrative Professional rating or Organizational Management specialty\; a full-time student in a business education program\; or an employed teacher of business education is cordially invitied to attend one of our monthly meetings. The chapter meets the second Monday of every month at the MRA Administrative Offices/Conference Center located at 3800 Avenue of the Cities in Moline\, IL.  For more information regarding IAAP and their programs\, go to http://community.iaap-hq.org/quadcity/Home/ or contact Kathy Riley\, CAP-OM at 309.786.2705 (w) or 309.489.6122 (cell) or via email at: thekatriley@gmail.com
X-ALT-DESC;FMTTYPE=text/html:<P style="MARGIN: 0in 0in 0pt" class=MsoNormal><FONT face=Calibri>Please help new member\, Quad City Chapter IAAP\, celebrate their 60<SUP>th</SUP> anniversary with a ribbon cutting on Monday\, October 8<SUP>th</SUP>\, 2012 at 6:00pm.<SPAN style="mso-spacerun: yes">&nbsp\; </SPAN>Located at 3800 Avenue of the Cities in Moline – just west of the Walgreens.</FONT></P><P style="MARGIN: 0in 0in 0pt" class=MsoNormal><?xml:namespace prefix = o ns = "urn:schemas-microsoft-com:office:office" /><o:p><FONT face=Calibri>&nbsp\;</FONT></o:p></P><P style="MARGIN: 0in 0in 0pt" class=MsoNormal><FONT face=Calibri>Receiving its charter in 1952\, the Quad City Chapter\, beginning as the Rock River Chapter of IAAP\, has a long and proud history of serving office professionals with opportunities for personal and professional growth\, leadership training\, and networking at the local\, state and international levels.<SPAN style="mso-spacerun: yes">&nbsp\; </SPAN>The Chapter also values its role as a community service organization\, volunteering hours and supporting charitable endeavors in the area.<SPAN style="mso-spacerun: yes">&nbsp\; </SPAN>The Quad City Chapter also sponsors a collegiate chapter located at Black Hawk College in Moline\, Illinois.</FONT></P><P style="MARGIN: 0in 0in 0pt" class=MsoNormal><o:p><FONT face=Calibri>&nbsp\;</FONT></o:p></P><P style="MARGIN: 0in 0in 0pt" class=MsoNormal><FONT face=Calibri>IAAP recognizes that by living in the Information Age\, office professionals must stay in the forefront of current events and technological changes in order to increase their productivity.<SPAN style="mso-spacerun: yes">&nbsp\; </SPAN>Members of IAAP receive the tools and knowledge necessary to become more effective contributors to their organizations\, and the Quad City Chapter has accepted the challenge to provide these opportunities to our members.</FONT></P><P style="MARGIN: 0in 0in 0pt" class=MsoNormal><o:p><FONT face=Calibri>&nbsp\;</FONT></o:p></P><P style="MARGIN: 0in 0in 0pt" class=MsoNormal><FONT face=Calibri>Anyone currently employed as an administrative professional or other qualified office professional\; holder of the Certified Administrative Professional rating or Organizational Management specialty\; a full-time student in a business education program\; or an employed teacher of business education is cordially invitied to attend one of our monthly meetings.</FONT></P><P style="MARGIN: 0in 0in 0pt" class=MsoNormal><o:p><FONT face=Calibri>&nbsp\;</FONT></o:p></P><P style="MARGIN: 0in 0in 0pt" class=MsoNormal><FONT face=Calibri>The chapter meets the second Monday of every month at the MRA Administrative Offices/Conference Center located at 3800 Avenue of the Cities in Moline\, IL.<SPAN style="mso-spacerun: yes">&nbsp\; </SPAN>For more information regarding IAAP and their programs\, go to </FONT><A href="http://community.iaap-hq.org/quadcity/Home/">http://community.iaap-hq.org/quadcity/Home/</A><FONT face=Calibri> or contact Kathy Riley\, CAP-OM at 309.786.2705 (w) or 309.489.6122 (cell) or via email at: </FONT><A href="mailto:thekatriley@gmail.com">thekatriley@gmail.com</A><FONT face=Calibri> </FONT></P><DIV style="FONT-FAMILY: Arial">&nbsp\;</DIV>
LOCATION:3800 Avenue of the Cities\, Moline\, IL 61265
UID:e.2843.447
SEQUENCE:3
DTSTAMP:20260421T184935Z
URL:https://member.quadcitieschamber.com/events/details/international-association-of-administrative-professionals-qc-chapter-ribbon-cutting-10-08-2012-447
END:VEVENT

END:VCALENDAR
