BEGIN:VCALENDAR
VERSION:2.0
PRODID:-//ChamberMaster//Event Calendar 2.0//EN
METHOD:PUBLISH
X-PUBLISHED-TTL:P3D
REFRESH-INTERVAL:P3D
CALSCALE:GREGORIAN
BEGIN:VEVENT
DTSTART:20140515T050000Z
DTEND:20140522T050000Z
X-MICROSOFT-CDO-ALLDAYEVENT:FALSE
SUMMARY:International Trip - Dubai
DESCRIPTION:Tour Dubai with the Quad Cities Chamber of CommerceMay 15 - 22\, 2014Early Bird Special - $3\,099 (if reserved by December 15\, 2013)Click here to view the Information Brochure   Dubai has a growing reputation as one of the world's most attractive and rapidly developing destinations. It is one of the few cities in the world that has undergone such a rapid transformation - from a humble beginning as a pearl-diving center\, to one of the fastest growing cities on earth. The United Arab Emirates (UAE) is one of the wealthiest nations in the world\, with per capita gross domestic product in 2012 approaching $50\,000. It is the top market in the Middle East/North Africa region for US goods\, and nearly 1\,000 American firms have a presence in the UAE\, drawn to the region's $300 billion a year economy and excellent infrastructure.  Dubai has long been recognized as the commercial and business hub of the Middle East and beyond\, and has developed a leading role in business services including finance\, and has effectively created a logistics hub between east and west. Tourism is now among its leading industries\, and there are countless places to visit and see. It is an intriguing land that combines old-world souks and modern shopping malls\, rolling sand dunes\, championship grass golf courses\, remote Bedouin villages and an arrive of five-star hotels. Embark on this journey to discover Dubai. Tour Features:Round-trip air transportation from the Quad City International AirportFirst-class accommodations for five nights (double-occupancy\, for single occupancy add $599)Includes nine meals consisting of 5 buffet breakfasts\, 2 lunches and 2 dinnersSightseeing tour program including a local guide and all entrance fees as follows: half-day city tour of Dubai including Burj Kalifa Tower\, desert safari by 4x4\, full-day tour to Abu Dhabi an evening cruise on the historic Dubai Creek aboard "Bateaux Dubai". Optional tours available.Professional Tour Host - Assistance of a professional local host during tours and transfersTouring by private deluxe air-conditioned motorcoachInternational awareness discussion on the local regionBaggage handling and transfersLocal taxes and service charges
X-ALT-DESC;FMTTYPE=text/html:<P style="MARGIN: 0in 0in 0pt 5.75pt" class=MsoNormal>&nbsp\;</P><P style="MARGIN: 0in 0in 0pt 5.75pt" class=MsoNormal><FONT size=2 face=Arial>Tour Dubai with the Quad Cities Chamber of Commerce</FONT></P><P style="MARGIN: 0in 0in 0pt 5.75pt" class=MsoNormal><FONT size=2 face=Arial>May 15 - 22\, 2014</FONT></P><P style="MARGIN: 0in 0in 0pt 5.75pt" class=MsoNormal><FONT size=2 face=Arial>Early Bird Special - $3\,099 (if reserved by December 15\, 2013)</FONT></P><P style="MARGIN: 0in 0in 0pt 5.75pt" class=MsoNormal><FONT size=2 face=Arial><A dataFld=0:0 href="http://www.quadcitieschamber.com/tcbdocs?reaction=download&amp\;file_id=1000">Click here</A>&nbsp\;to view the&nbsp\;Information Brochure </FONT></P><P style="MARGIN: 0in 0in 0pt 5.75pt" class=MsoNormal>&nbsp\;</P><P style="MARGIN: 0in 0in 0pt 5.75pt" class=MsoNormal><?xml:namespace prefix = o ns = "urn:schemas-microsoft-com:office:office" /><o:p><FONT size=2 face=Arial>&nbsp\;</FONT></o:p></P><P style="MARGIN: 0in 0in 0pt 5.75pt" class=MsoNormal><FONT face=Arial><FONT size=2><FONT>Dubai has a growing reputation as one of the world's most attractive and rapidly developing destinations. <SPAN style="BACKGROUND: white\; COLOR: black">It is one of the few cities in the world that has undergone such a rapid transformation - from a humble beginning as a pearl-diving center\, to one of the fastest growing cities on earth.<o:p></o:p></SPAN></FONT></FONT></FONT></P><P style="MARGIN: 0in 0in 0pt 5.75pt" class=MsoNormal><SPAN style="BACKGROUND: white\; COLOR: black"><o:p><FONT size=2 face=Arial>&nbsp\;</FONT></o:p></SPAN></P><P style="MARGIN: 0in 0in 0pt 5.75pt" class=MsoNormal><SPAN style="BACKGROUND: white\; COLOR: black"><FONT face=Arial><FONT size=2><FONT>The United Arab Emirates (UAE) is one of the wealthiest nations in the world\, with per capita gross domestic product in 2012 approaching $50\,000. It is the top market in the Middle East/North Africa region for US goods\, and nearly 1\,000 American firms have a presence in the UAE\, drawn to the region's $300 billion a year economy and excellent infrastructure. <o:p></o:p></FONT></FONT></FONT></SPAN></P><P style="MARGIN: 0in 0in 0pt 5.75pt" class=MsoNormal><SPAN style="BACKGROUND: white\; COLOR: black"><o:p><FONT size=2 face=Arial>&nbsp\;</FONT></o:p></SPAN></P><P style="MARGIN: 0in 0in 0pt 5.75pt" class=MsoNormal><FONT face=Arial><FONT size=2><FONT><SPAN style="BACKGROUND: white\; COLOR: black">Dubai has long been recognized as the commercial and business hub of the Middle East and beyond\, and has developed a leading role in business services including finance\, and has effectively created a logistics hub between east and west. Tourism is now among its leading industries\, and there are countless places to visit and see. </SPAN>It is an intriguing land that combines old-world souks and modern shopping malls\, rolling sand dunes\, championship grass golf courses\, remote Bedouin villages and an arrive of five-star hotels. Embark on this journey to discover Dubai.<SPAN style="BACKGROUND: white\; COLOR: black"><o:p></o:p></SPAN></FONT></FONT></FONT></P><P style="MARGIN: 0in 0in 0pt 5.75pt" class=MsoNormal><B style="mso-bidi-font-weight: normal"><o:p><FONT size=2 face=Arial>&nbsp\;</FONT></o:p></B></P><P style="MARGIN: 0in 0in 0pt 5.75pt" class=MsoNormal><FONT face=Arial><FONT size=2><FONT size=+0><B style="mso-bidi-font-weight: normal">Tour Features</B>:</FONT></FONT></FONT></P><UL><LI><DIV style="TEXT-INDENT: -0.25in\; MARGIN: 0in 0in 0pt 41.75pt\; mso-list: l0 level1 lfo1\; mso-add-space: auto" class=MsoListParagraphCxSpFirst><FONT size=2 face=Arial>Round-trip air transportation from the Quad City International Airport</FONT></DIV><LI><DIV style="TEXT-INDENT: -0.25in\; MARGIN: 0in 0in 0pt 41.75pt\; mso-list: l0 level1 lfo1\; mso-add-space: auto" class=MsoListParagraphCxSpMiddle><FONT size=2 face=Arial>First-class accommodations for five nights (double-occupancy\, for single occupancy add $599)</FONT></DIV><LI><DIV style="TEXT-INDENT: -0.25in\; MARGIN: 0in 0in 0pt 41.75pt\; mso-list: l0 level1 lfo1\; mso-add-space: auto" class=MsoListParagraphCxSpMiddle><FONT size=2 face=Arial>Includes nine meals consisting of 5 buffet breakfasts\, 2 lunches and 2 dinners</FONT></DIV><LI><DIV style="TEXT-INDENT: -0.25in\; MARGIN: 0in 0in 0pt 41.75pt\; mso-list: l0 level1 lfo1\; mso-add-space: auto" class=MsoListParagraphCxSpMiddle><FONT size=2 face=Arial>Sightseeing tour program including a local guide and all entrance fees as follows: half-day city tour of Dubai including Burj Kalifa Tower\, desert safari by 4x4\, full-day tour to Abu Dhabi an evening cruise on the historic Dubai Creek </FONT><FONT size=2 face=Arial>aboard "Bateaux Dubai". Optional tours available.</FONT></DIV><LI><DIV style="TEXT-INDENT: -0.25in\; MARGIN: 0in 0in 0pt 41.75pt\; mso-list: l0 level1 lfo1\; mso-add-space: auto" class=MsoListParagraphCxSpMiddle><FONT size=2 face=Arial>Professional Tour Host - Assistance of a professional local host during tours and transfers</FONT></DIV><LI><DIV style="TEXT-INDENT: -0.25in\; MARGIN: 0in 0in 0pt 41.75pt\; mso-list: l0 level1 lfo1\; mso-add-space: auto" class=MsoListParagraphCxSpMiddle><FONT size=2 face=Arial>Touring by private deluxe air-conditioned motorcoach</FONT></DIV><LI><DIV style="TEXT-INDENT: -0.25in\; MARGIN: 0in 0in 0pt 41.75pt\; mso-list: l0 level1 lfo1\; mso-add-space: auto" class=MsoListParagraphCxSpMiddle><FONT size=2 face=Arial>International awareness discussion on the local region</FONT></DIV><LI><DIV style="TEXT-INDENT: -0.25in\; MARGIN: 0in 0in 0pt 41.75pt\; mso-list: l0 level1 lfo1\; mso-add-space: auto" class=MsoListParagraphCxSpMiddle><FONT size=2 face=Arial>Baggage handling and transfers</FONT></DIV><LI><DIV style="TEXT-INDENT: -0.25in\; MARGIN: 0in 0in 10pt 41.75pt\; mso-list: l0 level1 lfo1\; mso-add-space: auto" class=MsoListParagraphCxSpLast><FONT size=2 face=Arial>Local taxes and service charges</FONT></DIV></LI></UL><P>&nbsp\;</P>
LOCATION:Dubai
UID:e.2843.729
SEQUENCE:3
DTSTAMP:20260420T063754Z
URL:https://member.quadcitieschamber.com/events/details/international-trip-dubai-05-15-2014-729
END:VEVENT

END:VCALENDAR
