BEGIN:VCALENDAR
VERSION:2.0
PRODID:-//ChamberMaster//Event Calendar 2.0//EN
METHOD:PUBLISH
X-PUBLISHED-TTL:P3D
REFRESH-INTERVAL:P3D
CALSCALE:GREGORIAN
BEGIN:VEVENT
DTSTART:20171109T233000Z
DTEND:20171110T030000Z
X-MICROSOFT-CDO-ALLDAYEVENT:FALSE
SUMMARY:INTERNATIONAL WOMEN AUTHOR SERIES
DESCRIPTION:You are invited to join us for an evening of networking\, dinner and conversation with International Author\, LAILA LALAMI.  This event is presented by THE STANLEY FOUNDATION.  \n\n\n\nLaila Lalami was born in Rabat and educated in Morrocco\, Great Britain\, and the United States of America.  She is the author of novels Hope and Other Dangerous Pursuits\, which was a finalist for the Oregon Book Award\, Secret Son\, which was on the Orange Prize longlist\, and The Moor's Account\, which won the American Book Award\, the Arab American Book Award\, and the Hurston/Wright Legacy Award.  It was both a nominee for the Man Booker Prize and a finalize for the Pulitzer Prize for Fiction.  Ms. Lalami's essays and opinion pieces have appeared in the Los Angeles Times\, the Washington Post\, The Nation\, the Guardian\, the New York Times and in many anthologies.  In 2016\, Ms. Lalami was named a columnist for The Nation magazine and a critic-at-large for the Los Angeles Times.  Ms. Lalami is the recipient of a British Council Fellowship\, a Fulbright Fellowship\, and a Guggenheim Fellowship and is currently a professor of creative writing at the University of California at Riverside.
X-ALT-DESC;FMTTYPE=text/html:You are invited to join us for an evening of networking\, dinner and conversation with International Author\, LAILA LALAMI. &nbsp\;This event is presented by THE STANLEY FOUNDATION. &nbsp\;<br />\n<br />\nLaila Lalami was born in Rabat and educated in Morrocco\, Great Britain\, and the United States of America. &nbsp\;She is the author of novels&nbsp\;<em>Hope and Other Dangerous Pursuits\,</em>&nbsp\;which was a finalist for the Oregon Book Award\,&nbsp\;<em>Secret Son</em>\, which was on the Orange Prize longlist\, and&nbsp\;<em>The Moor&#39\;s Account</em>\, which won the American Book Award\, the Arab American Book Award\, and the Hurston/Wright Legacy Award. &nbsp\;It was both a nominee for the Man Booker Prize and a finalize for the Pulitzer Prize for Fiction. &nbsp\;Ms. Lalami&#39\;s essays and opinion pieces have appeared in the&nbsp\;<em>Los Angeles Times</em>\, the&nbsp\;<em>Washington Post</em>\,&nbsp\;<em>The Nation</em>\, the&nbsp\;<em>Guardian</em>\, the&nbsp\;<em>New York Times</em>&nbsp\;and in many anthologies. &nbsp\;In 2016\, Ms. Lalami was named a columnist for&nbsp\;<em>The Nation</em>&nbsp\;magazine and a critic-at-large for the&nbsp\;<em>Los Angeles Times</em>. &nbsp\;Ms. Lalami is the recipient of a British Council Fellowship\, a Fulbright Fellowship\, and a Guggenheim Fellowship and is currently a professor of creative writing at the University of California at Riverside. &nbsp\;
LOCATION:Holiday Inn Rock Island Holiday Inn Rock Island - Quad Cities 226 17th Street Grand Ballroom Rock Island\, IL 61201
UID:e.2843.8543
SEQUENCE:3
DTSTAMP:20260423T194847Z
URL:https://member.quadcitieschamber.com/events/details/international-women-author-series-8543
END:VEVENT

END:VCALENDAR
