BEGIN:VCALENDAR
VERSION:2.0
PRODID:-//ChamberMaster//Event Calendar 2.0//EN
METHOD:PUBLISH
X-PUBLISHED-TTL:P3D
REFRESH-INTERVAL:P3D
CALSCALE:GREGORIAN
BEGIN:VEVENT
DTSTART:20210722T230000Z
DTEND:20210723T023000Z
X-MICROSOFT-CDO-ALLDAYEVENT:FALSE
SUMMARY:InternQC 2021 Night at the Ballpark
DESCRIPTION:Play ball! Come see why USA Today and 10 Best Readers' Choice Travel Awards named Modern Woodmen Park the best minor league ballpark in the country!\n\n\n\nCheer on the Quad Cities River Bandits as they play the Peoria Chiefs! This is also Casino Night\, so there is a t-shirt giveaway presented by Jumers! AND enjoy the views along the Mississippi!\n\n\n\nWalk-ins welcome.\n\n\n\nINTERNQC EVENTS ARE FOR REGISTERED INTERNQC PARTICIPANTS ONLY\n\nClick here to learn more about InternQC2021. \n\n\n\nIf you have any special requests please email Gerry Anne Hayes at ghayes@quadcitieschamber.com
X-ALT-DESC;FMTTYPE=text/html:<span style="font-size:16px\;"><span style="font-family:arial\;">Play ball! Come see why USA Today and 10 Best Readers&#39\; Choice Travel Awards named Modern Woodmen Park the best minor league ballpark in the country!<br />\n<br />\nCheer on the Quad Cities River Bandits as they play the Peoria Chiefs! This is also Casino Night\, so there is a t-shirt giveaway presented by Jumers! AND enjoy the views along the Mississippi!<br />\n<br />\nWalk-ins welcome.</span></span><br />\n<br />\n<span style="box-sizing: content-box\; font-weight: bolder\; bottom: auto\; clear: none\; color: rgb(255\, 140\, 0)\; content: normal\; direction: inherit\; empty-cells: show\; font-variant-numeric: inherit\; font-variant-east-asian: inherit\; font-stretch: inherit\; font-size: 16px\; font-family: arial\; left: auto\; line-height: inherit\; margin: 0px\; max-height: none\; max-width: none\; min-height: initial\; min-width: initial\; opacity: 1\; outline-offset: 0px\; overflow: visible\; padding: 0px\; position: static\; resize: none\; right: auto\; table-layout: auto\; text-overflow: clip\; top: auto\; vertical-align: baseline\; visibility: inherit\; word-break: inherit\; word-wrap: inherit\; z-index: auto\; background-image: none\; background-position: initial\; background-size: initial\; background-repeat: initial\; background-attachment: initial\; background-origin: initial\; background-clip: initial\; border: none\; border-collapse: separate\; border-radius: 0px\; height: auto\; width: auto\; box-shadow: none\;">INTERNQC&nbsp\;EVENTS ARE FOR REGISTERED&nbsp\;INTERNQC&nbsp\;PARTICIPANTS ONLY</span><br />\n<span style="font-size:16px\;"><span style="font-family:arial\;"><a href="https://member.quadcitieschamber.com/events/details/2021-internqc-summer-program-18790">Click here</a> to learn more about InternQC2021.&nbsp\;</span></span><br />\n<br />\n<span style="font-size:16px\;"><span style="font-family:arial\;">If you have any special requests please email Gerry Anne Hayes</span></span><span style="font-size:16px\;"><span style="font-family:arial\;">&nbsp\;at <a href="mailto:ghayes@quadcitieschamber.com">ghayes</a><a href="mailto:mhyder@quadcitieschamber.com">@quadcitieschamber.com</a></span></span><br />\n<br />\n<br />\n<br />\n<br />\n&nbsp\;
LOCATION:Modern Woodmen Park 209 S Gaines St Davenport\, IA 52802
UID:e.2843.19039
SEQUENCE:3
DTSTAMP:20260425T153008Z
URL:https://member.quadcitieschamber.com/events/details/internqc-2021-night-at-the-ballpark-19039
END:VEVENT

END:VCALENDAR
