BEGIN:VCALENDAR
VERSION:2.0
PRODID:-//ChamberMaster//Event Calendar 2.0//EN
METHOD:PUBLISH
X-PUBLISHED-TTL:P3D
REFRESH-INTERVAL:P3D
CALSCALE:GREGORIAN
BEGIN:VEVENT
DTSTART:20170622T223000Z
DTEND:20170623T020000Z
X-MICROSOFT-CDO-ALLDAYEVENT:FALSE
SUMMARY:InternQC Night at the Ballpark
DESCRIPTION:Walk-in's Welcome!!\n\n\n\nPlay ball! Quad Cities interns\, join us for a night at the ballpark! Come see what the Quad Cities is made of with our local baseball team\, The Riverbandits! Join us in celebrating before the game with food\, music\, and drinks at 5:30 pm.\n\n\n\nIf you have any special requests please email Olivia Bussert at obussert@quadcitieschamber.com
X-ALT-DESC;FMTTYPE=text/html:<span style="font-size:16px\;"><span style="font-family:arial\;">Walk-in&#39\;s Welcome!!<br />\n<br />\nPlay ball! Quad Cities interns\, join us for a night at the ballpark! Come see what the Quad Cities is made of with our local baseball team\, The Riverbandits! Join us in celebrating before the game with food\, music\, and drinks at 5:30 pm.<br />\n<br />\nIf you have any special requests please email Olivia Bussert at obussert@quadcitieschamber.com&nbsp\;&nbsp\;</span></span>
LOCATION:Riverbandits Stadium 209 Gaines St Davenport\, IA 52802
UID:e.2843.6045
SEQUENCE:3
DTSTAMP:20260424T015034Z
URL:https://member.quadcitieschamber.com/events/details/internqc-night-at-the-ballpark-6045
END:VEVENT

END:VCALENDAR
