BEGIN:VCALENDAR
VERSION:2.0
PRODID:-//ChamberMaster//Event Calendar 2.0//EN
METHOD:PUBLISH
X-PUBLISHED-TTL:P3D
REFRESH-INTERVAL:P3D
CALSCALE:GREGORIAN
BEGIN:VEVENT
DTSTART:20180214T190000Z
DTEND:20180214T230000Z
X-MICROSOFT-CDO-ALLDAYEVENT:FALSE
SUMMARY:Introduction to OSHA
DESCRIPTION:This course is for people with little or no knowledge of OSHA regulations who need this information because of their job responsibilities. Participants will be led step-by-step through the Code of Federal Regulations (29 CFR 1910) Safety and Health Standards for the General Industry. An explanation of the main standards and their application will be given. Section #186288
X-ALT-DESC;FMTTYPE=text/html:This course is for people with little or no knowledge of OSHA regulations who need this information because of their job responsibilities. Participants will be led step-by-step through the Code of Federal Regulations (29 CFR 1910) Safety and Health Standards for the General Industry. An explanation of the main standards and their application will be given. Section #186288
LOCATION:EICC Midwest Center for Public Safety Training\, 8200 N. Fairmount\, Davenport\, IA 52806
UID:e.2843.10013
SEQUENCE:3
DTSTAMP:20260423T153348Z
URL:https://member.quadcitieschamber.com/events/details/introduction-to-osha-10013
END:VEVENT

END:VCALENDAR
