BEGIN:VCALENDAR
VERSION:2.0
PRODID:-//ChamberMaster//Event Calendar 2.0//EN
METHOD:PUBLISH
X-PUBLISHED-TTL:P3D
REFRESH-INTERVAL:P3D
CALSCALE:GREGORIAN
BEGIN:VEVENT
DTSTART:20130924T220000Z
DTEND:20130924T223000Z
X-MICROSOFT-CDO-ALLDAYEVENT:FALSE
SUMMARY:Iowa College Access Network Ribbon Cutting
DESCRIPTION:Please join the Iowa College Access Network in celebrating the expansion of their business on Tuesday\, September 24th at 5:00 p.m. Located at 1950 E. 54th St. Davenport\, IA 52807.   http://mapq.st/1axrQZ8.   The Iowa College Access Network’s services are accessible to everyone\, appropriate for individual situations and available at no cost. For more information\, please visit http://www.icansucceed.org/.  Thank You\,
X-ALT-DESC;FMTTYPE=text/html:<DIV style="FONT-FAMILY: Arial"><P style="MARGIN: 0in 0in 0pt" class=MsoNormal><FONT face=Calibri>Please join the Iowa College Access Network in celebrating the expansion of their business on <B style="mso-bidi-font-weight: normal">Tuesday\, September 24<SUP>th</SUP> at 5:00 p.m.</B> Located at 1950 E. 54<SUP>th</SUP> St. Davenport\, IA 52807.<SPAN style="mso-spacerun: yes">&nbsp\;&nbsp\; </SPAN></FONT><A href="http://mapq.st/1axrQZ8"><FONT face="Times New Roman">http://mapq.st/1axrQZ8</FONT></A><FONT face=Calibri>.<SPAN style="mso-spacerun: yes">&nbsp\; </SPAN><?xml:namespace prefix = o ns = "urn:schemas-microsoft-com:office:office" /><o:p></o:p></FONT></P><P style="MARGIN: 0in 0in 0pt" class=MsoNormal><o:p><FONT face=Calibri>&nbsp\;</FONT></o:p></P><P style="MARGIN: 0in 0in 0pt" class=MsoNormal><FONT face=Calibri>The Iowa College Access Network’s services are accessible to everyone\, appropriate for individual situations and available at no cost.<o:p></o:p></FONT></P><P style="MARGIN: 0in 0in 0pt" class=MsoNormal><o:p><FONT face=Calibri>&nbsp\;</FONT></o:p></P><P style="MARGIN: 0in 0in 0pt" class=MsoNormal><FONT face=Calibri>For more information\, please visit </FONT><A href="http://www.icansucceed.org/"><FONT face="Times New Roman">http://www.icansucceed.org/</FONT></A><FONT face=Calibri>. <o:p></o:p></FONT></P><P style="MARGIN: 0in 0in 0pt" class=MsoNormal><FONT face=Calibri><SPAN style="mso-spacerun: yes">&nbsp\;</SPAN><o:p></o:p></FONT></P><P style="MARGIN: 0in 0in 0pt" class=MsoNormal><FONT face=Calibri>Thank You\, <o:p></o:p></FONT></P></DIV>
LOCATION:Iowa College Access Network (ICAN)1950 E. 54th St. Davenport\, IA 52807
UID:e.2843.693
SEQUENCE:3
DTSTAMP:20260421T184447Z
URL:https://member.quadcitieschamber.com/events/details/iowa-college-access-network-ribbon-cutting-09-24-2013-693
END:VEVENT

END:VCALENDAR
