BEGIN:VCALENDAR
VERSION:2.0
PRODID:-//ChamberMaster//Event Calendar 2.0//EN
METHOD:PUBLISH
X-PUBLISHED-TTL:P3D
REFRESH-INTERVAL:P3D
CALSCALE:GREGORIAN
BEGIN:VEVENT
DTSTART:20141015T123000Z
DTEND:20141015T140000Z
X-MICROSOFT-CDO-ALLDAYEVENT:FALSE
SUMMARY:Iowa General Assembly - Meet the Candidates Forum
DESCRIPTION:The Chamber will be hosting a moderated forum for the following contested races in our region for the Iowa Legislature: Iowa Senate (District 47) Sen. Roby Smith Maria Bribriesco  Iowa Senate (District 49) Sen. Rita Hart Brian Schmidt  Iowa House (District 92) Rep. Frank Wood Ross Paustian  Iowa House (District 93) Rep. Phyllis Thede Mark Ross  Iowa House (District 97) Jay SaxonNorlin Mommsen
X-ALT-DESC;FMTTYPE=text/html:<DIV style="FONT-FAMILY: Arial"><FONT face=Calibri><P class=MsoNormal style="MARGIN: 0in 0in 0pt">The Chamber will be hosting a moderated forum for the following contested races in our region for the Iowa Legislature:<?xml:namespace prefix = "o" ns = "urn:schemas-microsoft-com:office:office" /><o:p></o:p></P><P class=MsoNormal style="MARGIN: 0in 0in 0pt"><o:p>&nbsp\;</o:p></P><P class=MsoNormal style="MARGIN: 0in 0in 0pt"><B style="mso-bidi-font-weight: normal"><U>Iowa Senate (District 47)<o:p></o:p></U></B></P><P class=MsoNormal style="MARGIN: 0in 0in 0pt"><o:p>&nbsp\;</o:p></P><P class=MsoNormal style="MARGIN: 0in 0in 0pt">Sen. Roby Smith </P><P class=MsoNormal style="MARGIN: 0in 0in 0pt">Maria Bribriesco </P><P class=MsoNormal style="MARGIN: 0in 0in 0pt"><o:p>&nbsp\;</o:p></P><P class=MsoNormal style="MARGIN: 0in 0in 0pt"><B style="mso-bidi-font-weight: normal"><U>Iowa Senate (District 49)<o:p></o:p></U></B></P><P class=MsoNormal style="MARGIN: 0in 0in 0pt"><o:p>&nbsp\;</o:p></P><P class=MsoNormal style="MARGIN: 0in 0in 0pt">Sen. Rita Hart </P><P class=MsoNormal style="MARGIN: 0in 0in 0pt">Brian Schmidt </P><P class=MsoNormal style="MARGIN: 0in 0in 0pt"><o:p>&nbsp\;</o:p></P><P class=MsoNormal style="MARGIN: 0in 0in 0pt"><B style="mso-bidi-font-weight: normal"><U>Iowa House (District 92)<o:p></o:p></U></B></P><P class=MsoNormal style="MARGIN: 0in 0in 0pt"><o:p>&nbsp\;</o:p></P><P class=MsoNormal style="MARGIN: 0in 0in 0pt">Rep. Frank Wood </P><P class=MsoNormal style="MARGIN: 0in 0in 0pt">Ross Paustian </P><P class=MsoNormal style="MARGIN: 0in 0in 0pt"><o:p>&nbsp\;</o:p></P><P class=MsoNormal style="MARGIN: 0in 0in 0pt"><B style="mso-bidi-font-weight: normal"><U>Iowa House (District 93)<o:p></o:p></U></B></P><P class=MsoNormal style="MARGIN: 0in 0in 0pt"><o:p>&nbsp\;</o:p></P><P class=MsoNormal style="MARGIN: 0in 0in 0pt">Rep. Phyllis Thede </P><P class=MsoNormal style="MARGIN: 0in 0in 0pt">Mark Ross </P><P class=MsoNormal style="MARGIN: 0in 0in 0pt"><o:p>&nbsp\;</o:p></P><P class=MsoNormal style="MARGIN: 0in 0in 0pt"><B style="mso-bidi-font-weight: normal"><U>Iowa House (District 97)<o:p></o:p></U></B></P><P class=MsoNormal style="MARGIN: 0in 0in 0pt"><o:p>&nbsp\;</o:p></P><P class=MsoNormal style="MARGIN: 0in 0in 0pt">Jay Saxon<o:p></o:p></P><P class=MsoNormal style="MARGIN: 0in 0in 0pt">Norlin Mommsen<o:p></o:p></P><P class=MsoNormal style="MARGIN: 0in 0in 0pt"></FONT>&nbsp\;</P></DIV>
LOCATION:Palmer College - Vickie Anne Palmer Hall115 W. 7th Street Davenport\, IA
UID:e.2843.843
SEQUENCE:3
DTSTAMP:20260422T194026Z
URL:https://member.quadcitieschamber.com/events/details/iowa-general-assembly-meet-the-candidates-forum-10-15-2014-843
END:VEVENT

END:VCALENDAR
