BEGIN:VCALENDAR
VERSION:2.0
PRODID:-//ChamberMaster//Event Calendar 2.0//EN
METHOD:PUBLISH
X-PUBLISHED-TTL:P3D
REFRESH-INTERVAL:P3D
CALSCALE:GREGORIAN
BEGIN:VEVENT
DTSTART:20180515T161500Z
DTEND:20180515T180000Z
X-MICROSOFT-CDO-ALLDAYEVENT:FALSE
SUMMARY:Iowa Governor's Condition of the State Address 2018
DESCRIPTION:Join us as Iowa Governor Kim Reynolds & Lt. Governor Adam Gregg provide a review of this year's legislative session\, share accomplishments\, and describe ideas to move Iowa forward.\n\n \n\nCheck in: 11:15am\n\nNetworking: 11:30am\n\nProgram and Lunch: 11:45am\n\n \n\nIf you need any special requirements to attend this meeting please contact Marcy Hyder at mhyder@quadcitieschamber.com
X-ALT-DESC;FMTTYPE=text/html:<div style="FONT-FAMILY: Arial">\n<p align="center" class="MsoNormal" style="MARGIN: 0in 0in 10pt"><br />\n<span style="font-size:16px\;"><span style="font-family:arial\;">Join us as Iowa Governor Kim Reynolds &amp\; Lt. Governor Adam Gregg&nbsp\;provide a&nbsp\;review of this year&rsquo\;s legislative session\, share accomplishments\,&nbsp\;and describe ideas to move Iowa forward.</span></span><br />\n&nbsp\;</p>\n\n<p class="MsoNormal" style="margin: 0in 0in 10pt\; text-align: center\;"><span style="font-size:18px\;"><strong><span style="font-family:arial\;">Check in:&nbsp\;11:15am<br />\nNetworking: 11:30am<br />\nProgram and Lunch: 11:45am</span></strong></span></p>\n\n<p align="center" class="MsoNormal" style="VERTICAL-ALIGN: middle\; TEXT-ALIGN: center\; MARGIN: 0in 0in 0pt\; LINE-HEIGHT: 120%\; TEXT-AUTOSPACE: ">&nbsp\;</p>\n\n<p align="center" class="MsoNormal" style="MARGIN: 0in 0in 10pt"><span style="font-family:arial\;"><span style="BACKGROUND: white\; COLOR: black\; mso-ascii-font-family: Calibri\; mso-hansi-font-family: Calibri"><font color="#ff0000">If you need any special requirements to attend this meeting please contact Marcy Hyder at </font></span><span style="background: white\;"><a href="mailto:mhyder@quadcitieschamber.com"><span style="color:#FF0000\;">mhyder</span></a></span><span style="BACKGROUND: white\; COLOR: black\; mso-ascii-font-family: Calibri\; mso-hansi-font-family: Calibri"><a href="mailto:mhyder@quadcitieschamber.com"><font color="#ff0000">@quadcitieschamber.com</font></a></span></span></p>\n</div>\n
LOCATION:Rhythm City Casino Resort 7077 Elmore Avenue Davenport\, IA
UID:e.2843.13181
SEQUENCE:3
DTSTAMP:20260423T110503Z
URL:https://member.quadcitieschamber.com/events/details/iowa-governor-s-condition-of-the-state-address-2018-13181
END:VEVENT

END:VCALENDAR
