BEGIN:VCALENDAR
VERSION:2.0
PRODID:-//ChamberMaster//Event Calendar 2.0//EN
METHOD:PUBLISH
X-PUBLISHED-TTL:P3D
REFRESH-INTERVAL:P3D
CALSCALE:GREGORIAN
BEGIN:VEVENT
DTSTART:20170309T173000Z
DTEND:20170309T190000Z
X-MICROSOFT-CDO-ALLDAYEVENT:FALSE
SUMMARY:Iowa Governor's Condition of the State Address (March 2017)
DESCRIPTION:Check In: 11:30 a.m.\n\nProgram/Lunch: 12:00 - 1:00 p.m.\n\n \n\nJoin us as Iowa Governor Terry Branstad & Lt. Governor Kim Reynolds discusses the legislative session thus far\, highlights his goals for this session\, and describe his ideas to move Iowa forward. \n\n \n\nIf you need any special requirements to attend this meeting please contact Jessica Webb at jwebb@quadcitieschamber.com
X-ALT-DESC;FMTTYPE=text/html:<div style="FONT-FAMILY: Arial">\n<p align="center" class="MsoNormal" style="MARGIN: 0in 0in 10pt"><span style="font-family:arial\;"><b><span style="COLOR: black\; LETTER-SPACING: -0.2pt">Check In: 11:30 a.m.</span></b></span></p>\n\n<p align="center" class="MsoNormal" style="MARGIN: 0in 0in 10pt"><span style="font-family:arial\;"><b><span style="COLOR: black\; LETTER-SPACING: -0.2pt">Program/Lunch: 12:00&nbsp\;- 1:00 p.m.</span></b></span></p>\n\n<p align="center" class="MsoNormal" style="VERTICAL-ALIGN: middle\; TEXT-ALIGN: center\; MARGIN: 0in 0in 0pt\; LINE-HEIGHT: 120%\; TEXT-AUTOSPACE: "><span style="font-family:arial\;">&nbsp\;</span></p>\n\n<p align="center" class="MsoNormal" style="VERTICAL-ALIGN: middle\; TEXT-ALIGN: center\; MARGIN: 0in 0in 0pt\; LINE-HEIGHT: 120%\; TEXT-AUTOSPACE: "><span style="font-family:arial\;">Join us as Iowa Governor Terry Branstad &amp\; Lt. Governor Kim Reynolds&nbsp\;discusses the legislative session thus far\, highlights his goals for this session\, and describe his ideas to move Iowa forward. </span></p>\n\n<p align="center" class="MsoNormal" style="VERTICAL-ALIGN: middle\; TEXT-ALIGN: center\; MARGIN: 0in 0in 0pt\; LINE-HEIGHT: 120%\; TEXT-AUTOSPACE: ">&nbsp\;</p>\n\n<p align="center" class="MsoNormal" style="MARGIN: 0in 0in 10pt"><span style="font-family:arial\;"><span style="BACKGROUND: white\; COLOR: black\; mso-ascii-font-family: Calibri\; mso-hansi-font-family: Calibri"><font color="#ff0000">If you need any special requirements to attend this meeting please contact Jessica Webb&nbsp\;at </font><a href="mailto:mlovelady@quadcitieschamber.com"><font color="#ff0000">jwebb@quadcitieschamber.com</font></a></span></span></p>\n</div>\n
LOCATION:RiverCenter - Mississippi Hall 136 East 3rd Street\, Davenport
UID:e.2843.1403
SEQUENCE:3
DTSTAMP:20260424T072945Z
URL:https://member.quadcitieschamber.com/events/details/iowa-governor-s-condition-of-the-state-address-march-2017-1403
END:VEVENT

END:VCALENDAR
