BEGIN:VCALENDAR
VERSION:2.0
PRODID:-//ChamberMaster//Event Calendar 2.0//EN
METHOD:PUBLISH
X-PUBLISHED-TTL:P3D
REFRESH-INTERVAL:P3D
CALSCALE:GREGORIAN
BEGIN:VEVENT
DTSTART:20180119T173000Z
DTEND:20180119T190000Z
X-MICROSOFT-CDO-ALLDAYEVENT:FALSE
SUMMARY:Iowa Legislative Luncheon (January 2018)
DESCRIPTION:Legislative luncheon events provide Chamber members and their employees the opportunity to establish relationships with key policy makers and voice views on issues moving in the legislature. Networking and a facilitated question and answer session offer firsthand information on upcoming legislation and House and Senator committee activities. Utilize this event to connect with legislators and Chamber members to advocate for policies that will support growing the Quad Cities economy.\n\nThe following legislators have confirmed their attendance: \n\n\n\nSen. Rita Hart\n\nSen. Mark Lofgren\n\nSen. Jim Lykham\n\nSen. Roby Smith\n\nRep. Monica Kurth\n\nRep. Gary Mohr\n\nRep. Norlin Mommsen\n\nRep. Ross Paustian\n\nRep. Phyllis Thede\n\nRep. Cindy Winckler\n\n Rep. Mary Wolfe\n\n\n\n*If you need any special requirements to attend this meeting please contact Gwen Tombergs at gtombergs@quadcitieschamber.com
X-ALT-DESC;FMTTYPE=text/html:<span style="font-size:16px\;"><span style="font-family:arial\;">Legislative luncheon events provide Chamber members and their employees the opportunity to establish relationships with key policy makers and voice views on issues moving in the legislature. Networking and a facilitated question and answer session offer firsthand information on upcoming legislation and House and Senator committee activities. Utilize this event to connect with legislators and Chamber members to advocate for policies that will support growing the Quad Cities economy.</span><br />\nThe following legislators have confirmed their attendance:&nbsp\;</span><br />\n<br />\n<span style="font-size:16px\;"><span style="font-family:arial\;">Sen. Rita Hart<br />\nSen. Mark Lofgren<br />\nSen. Jim Lykham<br />\nSen. Roby Smith<br />\nRep. Monica Kurth<br />\nRep. Gary Mohr<br />\nRep. Norlin Mommsen<br />\nRep. Ross Paustian<br />\nRep. Phyllis Thede<br />\nRep. Cindy Winckler<br />\n&#8203\;Rep. Mary Wolfe</span><br />\n<br />\n<span style="background-image: initial\; background-position: initial\; background-size: initial\; background-repeat: initial\; background-attachment: initial\; background-origin: initial\; background-clip: initial\;"><span style="font-family: arial\, sans-serif\; letter-spacing: -0.15pt\;">*If you need any special requirements to attend this meeting please contact Gwen Tombergs at gtombergs@quadcitieschamber.com</span></span></span><br />\n<br />\n&nbsp\;
LOCATION:Isle of Capri Ballroom (at the casino) 1777 Isle Parkway Bettendorf\, IA 52722
UID:e.2843.8823
SEQUENCE:3
DTSTAMP:20260423T165538Z
URL:https://member.quadcitieschamber.com/events/details/iowa-legislative-luncheon-january-2018-8823
END:VEVENT

END:VCALENDAR
