BEGIN:VCALENDAR
VERSION:2.0
PRODID:-//ChamberMaster//Event Calendar 2.0//EN
METHOD:PUBLISH
X-PUBLISHED-TTL:P3D
REFRESH-INTERVAL:P3D
CALSCALE:GREGORIAN
BEGIN:VEVENT
DTSTART:20170310T173000Z
DTEND:20170310T190000Z
X-MICROSOFT-CDO-ALLDAYEVENT:FALSE
SUMMARY:Iowa Legislative Luncheon (March 2017)
DESCRIPTION:Please join us for our second Iowa legislative luncheon\, where you will have a chance connect with our state elected officials. We look forward to sharing our agenda for upcoming year and hearing the thoughts and agendas of our legislators. Most important\, this is an excellent opportunity for you to meet and share your concerns directly with your elected officials.\n\n \n\nAgenda:\n\n11:30 Doors Open\, Network with Elected Officials\n\n12:00 Program\n\n12:30 Q&A\n\n\n\nIf you need any special requirements to attend this meeting please contact\n\nJessica Webb at jwebb@quadcitieschamber.com
X-ALT-DESC;FMTTYPE=text/html:<span style="font-size:16px\;"><span style="font-family:arial\;"><span style="letter-spacing:-0.15pt\;"><span style="letter-spacing:-0.15pt\;">Please join us for our second Iowa legislative luncheon\, where you will have a chance connect with our state elected officials. We look forward to sharing our agenda for upcoming year and hearing the thoughts and agendas of our legislators. Most important\, this is an excellent opportunity for you to meet and share your concerns directly with your elected officials.</span></span><br />\n<span style="letter-spacing:-0.15pt\;">&nbsp\;</span></span></span><br />\n<span style="font-family: arial\; font-size: 16px\;">Agenda:</span><br style="font-family: arial\; font-size: 16px\;" />\n<span style="font-family: arial\; font-size: 16px\;">11:30 Doors Open\, Network with Elected Officials</span><br style="font-family: arial\; font-size: 16px\;" />\n<span style="font-family: arial\; font-size: 16px\;">12:00 Program</span><br style="font-family: arial\; font-size: 16px\;" />\n<span style="font-family: arial\; font-size: 16px\;">12:30 Q&amp\;A</span><br />\n<br />\n<span style="font-family:arial\;"><span style="font-size:14px\;"><font color="#ff0000" style="font-family: arial\; text-align: -webkit-center\;">If you need any special requirements to attend this meeting please contact<br />\nJessica Webb&nbsp\;at&nbsp\;</font><a href="mailto:mlovelady@quadcitieschamber.com" style="font-family: arial\; text-align: -webkit-center\;"><font color="#ff0000">jwebb@quadcitieschamber.com</font></a></span></span>
LOCATION:Holiday Inn & Suites 4215 Elmore Avenue Davenport\, IA 52807
UID:e.2843.1376
SEQUENCE:3
DTSTAMP:20260424T060522Z
URL:https://member.quadcitieschamber.com/events/details/iowa-legislative-luncheon-march-2017-1376
END:VEVENT

END:VCALENDAR
