BEGIN:VCALENDAR
VERSION:2.0
PRODID:-//ChamberMaster//Event Calendar 2.0//EN
METHOD:PUBLISH
X-PUBLISHED-TTL:P3D
REFRESH-INTERVAL:P3D
CALSCALE:GREGORIAN
BEGIN:VEVENT
DTSTART:20091208T060000Z
DTEND:20091208T060000Z
X-MICROSOFT-CDO-ALLDAYEVENT:FALSE
SUMMARY:Iowa Quad Cities Chamber Merger Celebration
DESCRIPTION:Iowa Quad Cities Chamber Merger Celebration
X-ALT-DESC;FMTTYPE=text/html:Iowa Quad Cities Chamber Merger Celebration
LOCATION:
UID:e.2843.4200
SEQUENCE:3
DTSTAMP:20260424T104527Z
URL:https://member.quadcitieschamber.com/events/details/iowa-quad-cities-chamber-merger-celebration-12-08-2009-4200
END:VEVENT

END:VCALENDAR
