BEGIN:VCALENDAR
VERSION:2.0
PRODID:-//ChamberMaster//Event Calendar 2.0//EN
METHOD:PUBLISH
X-PUBLISHED-TTL:P3D
REFRESH-INTERVAL:P3D
CALSCALE:GREGORIAN
BEGIN:VEVENT
DTSTART:20120208T173000Z
DTEND:20120208T193000Z
X-MICROSOFT-CDO-ALLDAYEVENT:FALSE
SUMMARY:Iowa's New Funding Initiative for Innovative Technologies
DESCRIPTION:Iowa's New Funding Initiative for Innovative Technologies - Feb. 8 New state funding programs aimed at developing innovative technologies are available. Join us to learn how these programs can grow your business!See an actual company give their pitch for Demonstration Fund money and hear feedback from our panel of Demonstration Fund expertsLearn the ins and outs of applying for these funds during our Demonstration Fund WorkshopGet information about the new Small Business Credit Initiative (SSBCI) program and the i6 Green programThese funding programs are available not only for new businesses\, but also established businesses exploring growth in new technologies. Date: Feb. 8Cost: Free\, lunch is includedTime: 11:30 a.m. - 1:30 p.m.Location: NewVentures Center\, 331 W. 3rd St.\, Davenport This program is offered in partnership with VentureNet Iowa\, an organization that connects emerging businesses with angel funding and other resources Registration link - http://www.eventbrite.com/event/2733240195?ref=elink
X-ALT-DESC;FMTTYPE=text/html:<DIV><P style="MARGIN: 0in 0in 0pt\; BACKGROUND: white" class=MsoNormal><B><SPAN style="FONT-FAMILY: 'Tahoma'\,'sans-serif'\; COLOR: green\; FONT-SIZE: 12pt">Iowa's New Funding Initiative for Innovative Technologies - Feb. 8</SPAN></B><SPAN style="FONT-FAMILY: 'Tahoma'\,'sans-serif'\; COLOR: green\; FONT-SIZE: 10.5pt"><?xml:namespace prefix = o ns = "urn:schemas-microsoft-com:office:office" /><o:p></o:p></SPAN></P><P style="MARGIN: 0in 0in 0pt\; BACKGROUND: white" class=MsoNormal><SPAN style="FONT-FAMILY: 'Arial'\,'sans-serif'\; COLOR: black\; FONT-SIZE: 10pt">&nbsp\;</SPAN><SPAN style="FONT-FAMILY: 'Tahoma'\,'sans-serif'\; COLOR: green\; FONT-SIZE: 10.5pt"><o:p></o:p></SPAN></P><P style="MARGIN: 0in 0in 0pt\; BACKGROUND: white" class=MsoNormal><SPAN style="FONT-FAMILY: 'Tahoma'\,'sans-serif'\; COLOR: black\; FONT-SIZE: 10pt">New state funding programs aimed at developing innovative technologies are available. Join us to learn how these programs can grow your business!</SPAN><SPAN style="FONT-FAMILY: 'Times New Roman'\,'serif'\; COLOR: black\; FONT-SIZE: 10.5pt"><o:p></o:p></SPAN></P><UL type=disc><LI style="MARGIN: 0in 0in 0pt\; BACKGROUND: white\; COLOR: black\; mso-margin-top-alt: auto\; mso-margin-bottom-alt: auto\; mso-list: l0 level1 lfo1\; tab-stops: list .5in" class=MsoNormal><SPAN style="FONT-FAMILY: 'Tahoma'\,'sans-serif'\; FONT-SIZE: 10pt\; mso-fareast-font-family: 'Times New Roman'">See an actual company give their pitch for Demonstration Fund money and hear feedback from our panel of Demonstration Fund experts<o:p></o:p></SPAN></LI><LI style="MARGIN: 0in 0in 0pt\; BACKGROUND: white\; COLOR: black\; mso-margin-top-alt: auto\; mso-margin-bottom-alt: auto\; mso-list: l0 level1 lfo1\; tab-stops: list .5in" class=MsoNormal><SPAN style="FONT-FAMILY: 'Tahoma'\,'sans-serif'\; FONT-SIZE: 10pt\; mso-fareast-font-family: 'Times New Roman'">Learn the ins and outs of applying for these funds during our Demonstration Fund Workshop<o:p></o:p></SPAN></LI><LI style="MARGIN: 0in 0in 0pt\; BACKGROUND: white\; COLOR: black\; mso-margin-top-alt: auto\; mso-margin-bottom-alt: auto\; mso-list: l0 level1 lfo1\; tab-stops: list .5in" class=MsoNormal><SPAN style="FONT-FAMILY: 'Tahoma'\,'sans-serif'\; FONT-SIZE: 10pt\; mso-fareast-font-family: 'Times New Roman'">Get information about the new Small Business Credit Initiative (SSBCI) program and the i6 Green program<o:p></o:p></SPAN></LI></UL><P style="MARGIN: 0in 0in 0pt\; BACKGROUND: white" class=MsoNormal><SPAN style="FONT-FAMILY: 'Tahoma'\,'sans-serif'\; COLOR: black\; FONT-SIZE: 10pt">These funding programs are available not only for new businesses\, but also established businesses exploring growth in new technologies.</SPAN><SPAN style="FONT-FAMILY: 'Times New Roman'\,'serif'\; COLOR: black\; FONT-SIZE: 10.5pt"><o:p></o:p></SPAN></P><P style="MARGIN: 0in 0in 0pt\; BACKGROUND: white" class=MsoNormal><SPAN style="FONT-FAMILY: 'Tahoma'\,'sans-serif'\; COLOR: black\; FONT-SIZE: 10pt">&nbsp\;</SPAN><SPAN style="FONT-FAMILY: 'Times New Roman'\,'serif'\; COLOR: black\; FONT-SIZE: 10.5pt"><o:p></o:p></SPAN></P><P style="MARGIN: 0in 0in 0pt\; BACKGROUND: white" class=MsoNormal><SPAN style="FONT-FAMILY: 'Tahoma'\,'sans-serif'\; COLOR: black\; FONT-SIZE: 10pt">Date: Feb. 8</SPAN><SPAN style="FONT-FAMILY: 'Times New Roman'\,'serif'\; COLOR: black\; FONT-SIZE: 10.5pt"><o:p></o:p></SPAN></P><P style="MARGIN: 0in 0in 0pt\; BACKGROUND: white" class=MsoNormal><SPAN style="FONT-FAMILY: 'Tahoma'\,'sans-serif'\; COLOR: black\; FONT-SIZE: 10pt">Cost:<B>&nbsp\;Free\, lunch is included</B></SPAN><SPAN style="FONT-FAMILY: 'Times New Roman'\,'serif'\; COLOR: black\; FONT-SIZE: 10.5pt"><o:p></o:p></SPAN></P><P style="MARGIN: 0in 0in 0pt\; BACKGROUND: white" class=MsoNormal><SPAN style="FONT-FAMILY: 'Tahoma'\,'sans-serif'\; COLOR: black\; FONT-SIZE: 10pt">Time: 11:30 a.m. - 1:30 p.m.</SPAN><SPAN style="FONT-FAMILY: 'Times New Roman'\,'serif'\; COLOR: black\; FONT-SIZE: 10.5pt"><o:p></o:p></SPAN></P><P style="MARGIN: 0in 0in 0pt\; BACKGROUND: white" class=MsoNormal><SPAN style="FONT-FAMILY: 'Tahoma'\,'sans-serif'\; COLOR: black\; FONT-SIZE: 10pt">Location: NewVentures Center\, 331 W. 3rd St.\, Davenport</SPAN><SPAN style="FONT-FAMILY: 'Times New Roman'\,'serif'\; COLOR: black\; FONT-SIZE: 10.5pt"><o:p></o:p></SPAN></P><P style="MARGIN: 0in 0in 0pt\; BACKGROUND: white" class=MsoNormal><SPAN style="FONT-FAMILY: 'Tahoma'\,'sans-serif'\; BACKGROUND: white\; COLOR: #1f497d\; FONT-SIZE: 10pt">&nbsp\;</SPAN><SPAN style="FONT-FAMILY: 'Times New Roman'\,'serif'\; COLOR: black\; FONT-SIZE: 10.5pt"><o:p></o:p></SPAN></P><P style="MARGIN: 0in 0in 0pt\; BACKGROUND: white" class=MsoNormal><SPAN style="FONT-FAMILY: 'Tahoma'\,'sans-serif'\; COLOR: black\; FONT-SIZE: 10pt">This program is offered in partnership with VentureNet Iowa\, an organization that connects emerging businesses with angel funding and other resources</SPAN><SPAN style="FONT-FAMILY: 'Times New Roman'\,'serif'\; COLOR: black\; FONT-SIZE: 10.5pt"><o:p></o:p></SPAN></P><P style="MARGIN: 0in 0in 0pt" class=MsoNormal><o:p><FONT face=Calibri>&nbsp\;</FONT></o:p></P><P style="MARGIN: 0in 0in 0pt" class=MsoNormal><FONT face=Calibri>Registration link - </FONT><A href="http://www.eventbrite.com/event/2733240195?ref=elink"><FONT face=Calibri>http://www.eventbrite.com/event/2733240195?ref=elink</FONT></A></P></DIV>
LOCATION:New Ventures Center331 W. Third Street Ste 100 Davenport\, IA 52806
UID:e.2843.336
SEQUENCE:3
DTSTAMP:20260422T080823Z
URL:https://member.quadcitieschamber.com/events/details/iowa-s-new-funding-initiative-for-innovative-technologies-02-08-2012-336
END:VEVENT

END:VCALENDAR
