BEGIN:VCALENDAR
VERSION:2.0
PRODID:-//ChamberMaster//Event Calendar 2.0//EN
METHOD:PUBLISH
X-PUBLISHED-TTL:P3D
REFRESH-INTERVAL:P3D
CALSCALE:GREGORIAN
BEGIN:VEVENT
DTSTART:20200915T230000Z
DTEND:20200916T020000Z
X-MICROSOFT-CDO-ALLDAYEVENT:FALSE
SUMMARY:Iowa Substitute Teacher Authorization Course
DESCRIPTION:There's a severe shortage of substitute teachers in the Quad Cities area. You can help fill the void by becoming an authorized substitute teacher through Eastern Iowa Community Colleges Substitute Authorization Program. \n\n\n\nWe have a new seven-week course beginning Tuesday\, September 15. With new rules recently announced by Iowa Governor Kim Reynolds\, anyone with an Associate's Degree or 60 hours of credit at a regionally accredited institution\, or a paraeducator\, can be authorized to become a K-12 substitute teacher.\n\n \n\nThese are great positions for people with flexible schedules who enjoy being with students and would like to generate a little extra income. To earn their authorization\, individuals must complete the Board of Educational Examiners Approved Substitute Authorization Program available through EICC. \n\n\n\nThe course content includes ethics\, classroom management\, diversity and instructional strategies. Upon completion of the course and after the submission of the requirements and fees of the Iowa Board of Educational Examiners\, an individual is eligible to be authorized to substitute in an Iowa K-12 institution.\n\n \n\nParaeducators who hold the limited substitute authorization to serve as a substitute only in their own special education classroom may now serve as a substitute in any classroom.\n\n\n\nThe minimum age for participation is 20. Cost is $139. For more information\, call toll-free at 1-888-336-3907 or visit eicc.edu/substitute
X-ALT-DESC;FMTTYPE=text/html:<span style="font-size:12px"><span style="font-family:arial\,helvetica\,sans-serif">There&#39\;s a severe shortage of substitute teachers in the Quad Cities area. You can help fill the void by becoming an authorized substitute teacher through Eastern Iowa Community Colleges&nbsp\;<span style="background-color:rgb(255\, 255\, 255)\; color:rgb(51\, 51\, 51)">Substitute Authorization Program.&nbsp\;<br />\n<br />\nWe have a new seven-week course beginning Tuesday\, September 15. With&nbsp\;</span>new rules recently announced by Iowa Governor Kim Reynolds\, anyone with an Associate&#39\;s Degree or 60 hours of credit at a regionally accredited institution\, or a paraeducator\, can be authorized to become a K-12 substitute teacher.<br />\n&nbsp\;<br />\nThese are great positions for people with flexible schedules who enjoy being with students and would like to generate a little extra income. To earn their authorization\, individuals must complete the Board of Educational Examiners Approved Substitute Authorization Program available through EICC.&nbsp\;<br />\n<br />\nThe course content includes ethics\, classroom management\, diversity and instructional strategies. Upon completion of the course and after the submission of the requirements and fees of the Iowa Board of Educational Examiners\, an individual is eligible to be authorized to substitute in an Iowa K-12 institution.<br />\n&nbsp\;<br />\nParaeducators who hold the limited substitute authorization to serve as a substitute only in their own special education classroom may now serve as a substitute in any classroom.<br />\n<br />\nThe minimum age for participation is 20. Cost is $139. For more information\, call toll-free at 1-888-336-3907 or visit <a href="https://eicc.augusoft.net/index.cfm?method=ClassListing.ClassListingDisplay&amp\;keywords=substitute&amp\;fromSearch=1&amp\;utm_source=eicc&amp\;utm_medium=ad&amp\;utm_campaign=ce&amp\;utm_content=Substitute"><span style="color:windowtext">eicc.edu/substitute</span></a></span></span><br />\n&nbsp\;
LOCATION:Scott Community College Urban Campus 101 W. Third St. Davenport\, IA
UID:e.2843.17912
SEQUENCE:3
DTSTAMP:20260421T123923Z
URL:https://member.quadcitieschamber.com/events/details/iowa-substitute-teacher-authorization-course-09-15-2020-17912
END:VEVENT

END:VCALENDAR
