BEGIN:VCALENDAR
VERSION:2.0
PRODID:-//ChamberMaster//Event Calendar 2.0//EN
METHOD:PUBLISH
X-PUBLISHED-TTL:P3D
REFRESH-INTERVAL:P3D
CALSCALE:GREGORIAN
BEGIN:VEVENT
DTSTART:20120410T213000Z
DTEND:20120410T230000Z
X-MICROSOFT-CDO-ALLDAYEVENT:FALSE
SUMMARY:Iowa Supreme Court Reception
DESCRIPTION:
X-ALT-DESC;FMTTYPE=text/html:
LOCATION:Hotel Blackhawk200 E. 3rd St. Davenport\, IA 52801
UID:e.2843.365
SEQUENCE:3
DTSTAMP:20260422T045122Z
URL:https://member.quadcitieschamber.com/events/details/iowa-supreme-court-reception-04-10-2012-365
END:VEVENT

END:VCALENDAR
