BEGIN:VCALENDAR
VERSION:2.0
PRODID:-//ChamberMaster//Event Calendar 2.0//EN
METHOD:PUBLISH
X-PUBLISHED-TTL:P3D
REFRESH-INTERVAL:P3D
CALSCALE:GREGORIAN
BEGIN:VEVENT
DTSTART:20201114T150000Z
DTEND:20201114T200000Z
X-MICROSOFT-CDO-ALLDAYEVENT:FALSE
SUMMARY:Iron + Grain Maker Festival
DESCRIPTION:Come celebrate creativity and innovation\, enjoy delicious local food and brews\, and take in live music-all curated around the Quad Cities' hottest new concert venue. Check out www.ironandgrainfest.com for more information. : Live music from Lewis Knudsen\, Molly Durnin\, Logan Springer\, Ariel + Jacob\, Adam Griffin and Bobby Ray Bunch! : Shopping from 130+ local small businesses and artisan vendors : Jennie's Boxcar : Midwest Ale Works
X-ALT-DESC;FMTTYPE=text/html:Come celebrate creativity and innovation\, enjoy delicious local food and brews\, and take in live music-all curated around the Quad Cities&rsquo\; hottest new concert venue. Check out www.ironandgrainfest.com for more information. : Live music from Lewis Knudsen\, Molly Durnin\, Logan Springer\, Ariel + Jacob\, Adam Griffin and Bobby Ray Bunch! : Shopping from 130+ local small businesses and artisan vendors : Jennie&rsquo\;s Boxcar : Midwest Ale Works
LOCATION:The Rust Belt 575 12th Ave East Moline\, IL 61244
UID:e.2843.18205
SEQUENCE:3
DTSTAMP:20260421T094610Z
URL:https://member.quadcitieschamber.com/events/details/iron-grain-maker-festival-11-14-2020-18205
END:VEVENT

END:VCALENDAR
