BEGIN:VCALENDAR
VERSION:2.0
PRODID:-//ChamberMaster//Event Calendar 2.0//EN
METHOD:PUBLISH
X-PUBLISHED-TTL:P3D
REFRESH-INTERVAL:P3D
CALSCALE:GREGORIAN
BEGIN:VEVENT
DTSTART:20120623T144500Z
DTEND:20120623T151500Z
X-MICROSOFT-CDO-ALLDAYEVENT:FALSE
SUMMARY:Isabel Bloom Ribbon Cutting
DESCRIPTION:Please help Isabel Bloom kick off a special 10-day event of “Made in the Quad Cities\, Made in the USA” with a ribbon cutting on Saturday\, June 23rd at 9:45am (prior to their 10am opening).  Located at 1505 River Drive in Moline\, diagonally across from John Deere Commons. For more information\, please visit www.ibloom.com
X-ALT-DESC;FMTTYPE=text/html:<DIV><P style="MARGIN: 0in 0in 0pt" class=MsoNormal><FONT face=Calibri>Please help Isabel Bloom kick off a special 10-day event of “Made in the Quad Cities\, Made in the USA” with a ribbon cutting on Saturday\, June 23<SUP>rd</SUP> at 9:45am (prior to their 10am opening).<SPAN style="mso-spacerun: yes">&nbsp\; </SPAN>Located at 1505 River Drive in Moline\, diagonally across from John Deere Commons.</FONT></P><P style="MARGIN: 0in 0in 0pt" class=MsoNormal><?xml:namespace prefix = o ns = "urn:schemas-microsoft-com:office:office" /><o:p><FONT face=Calibri>&nbsp\;</FONT></o:p></P><P style="MARGIN: 0in 0in 0pt" class=MsoNormal><FONT face=Calibri>For more information\, please visit </FONT><A href="http://www.ibloom.com"><FONT face="Times New Roman">www.ibloom.com</FONT></A></P></DIV>
LOCATION:Isabel Bloom\, LLC1505 River Drive Moline\, IL 61265
UID:e.2843.391
SEQUENCE:3
DTSTAMP:20260421T234904Z
URL:https://member.quadcitieschamber.com/events/details/isabel-bloom-ribbon-cutting-06-23-2012-391
END:VEVENT

END:VCALENDAR
