BEGIN:VCALENDAR
VERSION:2.0
PRODID:-//ChamberMaster//Event Calendar 2.0//EN
METHOD:PUBLISH
X-PUBLISHED-TTL:P3D
REFRESH-INTERVAL:P3D
CALSCALE:GREGORIAN
BEGIN:VEVENT
DTSTART:20170424T180000Z
DTEND:20170424T190000Z
X-MICROSOFT-CDO-ALLDAYEVENT:FALSE
SUMMARY:IWLC Epic Corporate Challenge Quad Cities Rollout
DESCRIPTION:As part of their Iowa Economic development and workforce strategies\, Governor Terry Brandstad and Lt. Governor Kim Reynolds cordially invite you to the Quad Cities announcement of the EPIC CORPORATE CHALLENGE. What is the EPIC CORPORATE CHALLENGE: A public/private partnership to improve gender balance in the workplace with the intent of moving conversation to action!!!
X-ALT-DESC;FMTTYPE=text/html:As part of their Iowa Economic development and workforce strategies\, Governor Terry Brandstad and Lt. Governor Kim Reynolds cordially invite you to the Quad Cities announcement of the EPIC CORPORATE CHALLENGE. What is the EPIC CORPORATE CHALLENGE: A public/private partnership to improve gender balance in the workplace with the intent of moving conversation to action!!!
LOCATION:Arconic- Davenport Works 4879 State Street Bettendorf
UID:e.2843.5802
SEQUENCE:3
DTSTAMP:20260424T044458Z
URL:https://member.quadcitieschamber.com/events/details/iwlc-epic-corporate-challenge-quad-cities-rollout-5802
END:VEVENT

END:VCALENDAR
