BEGIN:VCALENDAR
VERSION:2.0
PRODID:-//ChamberMaster//Event Calendar 2.0//EN
METHOD:PUBLISH
X-PUBLISHED-TTL:P3D
REFRESH-INTERVAL:P3D
CALSCALE:GREGORIAN
BEGIN:VEVENT
DTSTART:20210304T140000Z
DTEND:20210604T045500Z
X-MICROSOFT-CDO-ALLDAYEVENT:FALSE
SUMMARY:JA Inspire Virtual Career Fair
DESCRIPTION:The JA Inspire Virtual Career Fair helps 7th-12th grade students learn about careers that best align with their skills and interests and identify their potential career path. Students log on to a virtual platform and explore dozens of careers available throughout our region and attend webinars related to career planning. Students may participate through their school or register independently. Educators and parents can learn more here - https://jaheartland.org/events/ja-inspire-vfair/ This event begins March 4\, 2021 and students will have unlimited access until June 3\,2021.
X-ALT-DESC;FMTTYPE=text/html:The JA Inspire Virtual Career Fair helps 7th-12th grade students learn about careers that best align with their skills and interests and identify their potential career path. Students log on to a virtual platform and explore dozens of careers available throughout our region and attend webinars related to career planning. Students may participate through their school or register independently. Educators and parents can learn more here - https://jaheartland.org/events/ja-inspire-vfair/ This event begins March 4\, 2021 and students will have unlimited access until June 3\,2021.
LOCATION:Held virtually
UID:e.2843.18766
SEQUENCE:3
DTSTAMP:20260421T032542Z
URL:https://member.quadcitieschamber.com/events/details/ja-inspire-virtual-career-fair-18766
END:VEVENT

END:VCALENDAR
