BEGIN:VCALENDAR
VERSION:2.0
PRODID:-//ChamberMaster//Event Calendar 2.0//EN
METHOD:PUBLISH
X-PUBLISHED-TTL:P3D
REFRESH-INTERVAL:P3D
CALSCALE:GREGORIAN
BEGIN:VEVENT
DTSTART:20130822T160000Z
DTEND:20130822T163000Z
X-MICROSOFT-CDO-ALLDAYEVENT:FALSE
SUMMARY:Jackson Renaissance Ribbon Cutting
DESCRIPTION:Please join The Jackson Renaissance in celebrating their grand opening on Thursday\, August 22nd at 11:00 a.m.  at 1420 W. 16th St. (Washington & 16th Streets)  Life in Davenport just got more interesting for seniors 55+. A complete renovation of a 120 year-old\, 60\,000 sq. foot school brings affordable luxury to the Quad Cities. State-of-the-art geothermal means that heat and air conditioning are included in the rent (starting at $455!)  For more information\, visit www.therenaissancecompanies.com.
X-ALT-DESC;FMTTYPE=text/html:<FONT face=Calibri><SPAN style="FONT-FAMILY: 'Calibri'\,'sans-serif'\; FONT-SIZE: 11pt\; mso-fareast-font-family: 'Times New Roman'\; mso-bidi-font-family: 'Times New Roman'\; mso-ansi-language: EN-US\; mso-fareast-language: EN-US\; mso-bidi-language: AR-SA"><P style="MARGIN: 0in 0in 0pt" class=MsoNormal>Please join The Jackson Renaissance in celebrating their grand opening on <B style="mso-bidi-font-weight: normal">Thursday\, August 22<SUP>nd</SUP> at 11:00 a.m.<SPAN style="mso-spacerun: yes">&nbsp\; </SPAN></B>at 1420 W. 16<SUP>th</SUP> St. (Washington &amp\; 16<SUP>th</SUP> Streets) <?xml:namespace prefix = o ns = "urn:schemas-microsoft-com:office:office" /><o:p></o:p></P><P style="MARGIN: 0in 0in 0pt" class=MsoNormal><o:p>&nbsp\;</o:p></P><P style="MARGIN: 0in 0in 0pt" class=MsoNormal>Life in Davenport just got more interesting for seniors 55+. A complete renovation of a 120 year-old\, 60\,000 sq. foot school brings affordable luxury to the Quad Cities. State-of-the-art geothermal means that heat and air conditioning are included in the rent (starting at $455!) <o:p></o:p></P><P style="MARGIN: 0in 0in 0pt" class=MsoNormal><o:p>&nbsp\;</o:p></P><P style="MARGIN: 0in 0in 0pt" class=MsoNormal>For more information\, visit <A href="http://www.therenaissancecompanies.com"><FONT face="Times New Roman">www.therenaissancecompanies.com</FONT></A>. <o:p></o:p></P><P style="MARGIN: 0in 0in 0pt" class=MsoNormal></SPAN></FONT>&nbsp\;</P>
LOCATION:The Jackson Renaissance1420 W. 16th St. Davenport\, IA 52804
UID:e.2843.651
SEQUENCE:3
DTSTAMP:20260421T183529Z
URL:https://member.quadcitieschamber.com/events/details/jackson-renaissance-ribbon-cutting-08-22-2013-651
END:VEVENT

END:VCALENDAR
