BEGIN:VCALENDAR
VERSION:2.0
PRODID:-//ChamberMaster//Event Calendar 2.0//EN
METHOD:PUBLISH
X-PUBLISHED-TTL:P3D
REFRESH-INTERVAL:P3D
CALSCALE:GREGORIAN
BEGIN:VEVENT
DTSTART:20130627T200000Z
DTEND:20130627T203000Z
X-MICROSOFT-CDO-ALLDAYEVENT:FALSE
SUMMARY:Jake O's Grand Re-Opening & Ribbon Cutting
DESCRIPTION:Jake O’s\, formally O’Melia’s Supper Club\, will be celebrating their new name and recent renovations with a Grand Re-opening on Thursday\, June 27th at 3:00pm – Located at 2900 46th Avenue in Rock Island\, next to Virdi Eye Clinic. Jake O’s is a chef owned and operated restaurant with everything made from scratch\, hand cut steaks\, catering and banquet space.
X-ALT-DESC;FMTTYPE=text/html:<DIV><P style="MARGIN: 0in 0in 0pt" class=MsoNormal><FONT face=Calibri>Jake O’s\, formally O’Melia’s Supper Club\, will be celebrating their new name and recent renovations with a Grand Re-opening on <B style="mso-bidi-font-weight: normal">Thursday\, June 27<SUP>th</SUP> at 3:00pm</B> – Located at 2900 46<SUP>th</SUP> Avenue in Rock Island\, next to Virdi Eye Clinic.<?xml:namespace prefix = o ns = "urn:schemas-microsoft-com:office:office" /><o:p></o:p></FONT></P><P style="MARGIN: 0in 0in 0pt" class=MsoNormal><o:p><FONT face=Calibri>&nbsp\;</FONT></o:p></P><P style="MARGIN: 0in 0in 0pt" class=MsoNormal><FONT face=Calibri>Jake O’s is a chef owned and operated restaurant with everything made from scratch\, hand cut steaks\, catering and banquet space.<SPAN style="mso-spacerun: yes">&nbsp\; </SPAN></FONT><o:p></o:p></P></DIV>
LOCATION:Jake O's2900 46th Avenue Rock Island\, IL 61201
UID:e.2843.614
SEQUENCE:3
DTSTAMP:20260421T134956Z
URL:https://member.quadcitieschamber.com/events/details/jake-o-s-grand-re-opening-ribbon-cutting-06-27-2013-614
END:VEVENT

END:VCALENDAR
