BEGIN:VCALENDAR
VERSION:2.0
PRODID:-//ChamberMaster//Event Calendar 2.0//EN
METHOD:PUBLISH
X-PUBLISHED-TTL:P3D
REFRESH-INTERVAL:P3D
CALSCALE:GREGORIAN
BEGIN:VEVENT
DTSTART:20210331T150000Z
DTEND:20210401T020000Z
X-MICROSOFT-CDO-ALLDAYEVENT:FALSE
SUMMARY:Jersey Mike's Day of Giving
DESCRIPTION:Stop in to your local Jersey Mike's Subs throughout the month of March to support JA. Make a $5 donation and receive a free sub at a future purchase. On March 31\, 100% of sales will be donated back to Junior Achievement of the Heartland.
X-ALT-DESC;FMTTYPE=text/html:Stop in to your local Jersey Mike&rsquo\;s Subs throughout the month of March to support JA. Make a $5 donation and receive a free sub at a future purchase. On March 31\, 100% of sales will be donated back to Junior Achievement of the Heartland.
LOCATION:Jersey Mike's Subs: 2124 E Kimberly Rd Suite 150B\, Davenport 3918 16th St\, Moline
UID:e.2843.18770
SEQUENCE:3
DTSTAMP:20260421T033358Z
URL:https://member.quadcitieschamber.com/events/details/jersey-mike-s-day-of-giving-03-31-2021-18770
END:VEVENT

END:VCALENDAR
