BEGIN:VCALENDAR
VERSION:2.0
PRODID:-//ChamberMaster//Event Calendar 2.0//EN
METHOD:PUBLISH
X-PUBLISHED-TTL:P3D
REFRESH-INTERVAL:P3D
CALSCALE:GREGORIAN
BEGIN:VEVENT
DTSTART:20190327T150000Z
DTEND:20190328T020000Z
X-MICROSOFT-CDO-ALLDAYEVENT:FALSE
SUMMARY:Jersey Mike's Day of Giving
DESCRIPTION:Throughout the month of March stop in to Jersey Mike's Subs to donate to JA. And\, on Wednesday\, March 27 Jersey Mike's is donating 100% of sales to Junior Achievement!
X-ALT-DESC;FMTTYPE=text/html:Throughout the month of March stop in to Jersey Mike&#39\;s Subs to donate to JA. And\, on Wednesday\, March 27 Jersey Mike&#39\;s is donating 100% of sales to Junior Achievement!
LOCATION:Jersey Mike's Subs 2124 E Kimberly Road\, Davenport
UID:e.2843.13828
SEQUENCE:3
DTSTAMP:20260422T195938Z
URL:https://member.quadcitieschamber.com/events/details/jersey-mike-s-day-of-giving-13828
END:VEVENT

END:VCALENDAR
